{"text_format":"1","workbook":"xlsx","n_sheets":9,"sheets":["1ОиДинфоб (2)","1ОиДинфоб","2КомфУслНал","2КомУслОц","3УслДостИнвНал","3УслДостИнвОц","4ДобрВежл","5УдовлУсл","Интегр"],"not_rendered":{"charts":0,"images":0,"macros":1,"external_links":0,"defined_names":0,"comments":0,"pivot_tables":0},"unopened":[],"bounds":{"document_bytes":16777216,"sheet_cells":100000,"rows_first":2000,"rows_last":500,"rows_between":2000,"halvings":0,"cell_chars":16384,"cell_head_chars":4096},"cells_cut":0,"cells_raw":0,"read":"whole","date_system":"1900"}

{"sheet":"1ОиДинфоб (2)","index":0,"n_rows":4,"n_cols":19,"rows_kept":4,"cut":false,"hidden":false,"merged":[[0,18,1,18],[0,3,0,8],[0,9,0,11],[0,12,0,17],[0,0,1,0],[0,1,1,1],[0,2,1,2],[1,3,1,4],[1,5,1,6]]}
["№ п/п","Муниципальное образование","Наименование образовательной организации","Показатель 1.1",null,null,null,null,null,"Показатель 1.2",null,null,"Показатель 1.3",null,null,null,null,null,"Итого по критерию:"]
[null,null,null,"1.1.1. Объем информации, размещенной на информационных стендах в помещении организации",null,"1.1.2. Объем информации, размещенной на официальном сайте организации",null,"Значение показателя 1.1","Значение показателя 1.1 с учетом значимости ","Количество функционирующих дистанционных способов взаимодействия","Значение показателя 1.2","Значение показателя 1.2 с учетом значимости","Число получателей услуг, удовлетворенных качеством, полнотой и доступностью информации о деятельности организации, размещенной на стендах организации","Число опрошенных получателей услуг, ответивших на соответствующий вопрос анкеты","Число получателей услуг, удовлетворенных качеством, полнотой и доступностью информации о деятельности организации, размещенной на сайте организации","Число опрошенных получателей услуг, ответивших на соответствующий вопрос анкеты","Значение показателя 1.3","Значение показателя 1 .3 с учетом веса"]
[null,null,null,null,null,null,null,100,30,null,100,30,null,null,null,null,100,40,{"$f":"I3+L3+R3","v":100}]
[67,"Романовский район","МБУДО  «Романовский детско-юношеский центр»",9,9,34,34,{"$f":"0.5*(D4/E4+F4/G4)*100","v":100},{"$f":"H4*0.3","v":30},3,{"$f":"IF(J4<=3,J4*30,100)","v":90},{"$f":"K4*0.3","v":27},157,157,127,128,99.9,{"$f":"Q4*0.4","v":39.960000000000008},{"$f":"I4+L4+R4","v":96.960000000000008}]

{"sheet":"1ОиДинфоб","index":1,"n_rows":4,"n_cols":17,"rows_kept":4,"cut":false,"hidden":false,"merged":[[0,16,1,16],[0,1,1,1],[0,2,1,2],[0,0,1,0],[0,3,0,6],[0,7,0,9],[0,10,0,15]]}
["№ п/п","Муниципальное образование","Наименование образовательной организации","Показатель 1.1",null,null,null,"Показатель 1.2",null,null,"Показатель 1.3",null,null,null,null,null,"Итого по критерию:"]
[null,null,null,"1.1.1. Объем информации, размещенной на информационных стендах в помещении организации","1.1.2. Объем информации, размещенной на официальном сайте организации","Значение показателя 1.1","Значение показателя 1.1 с учетом значимости ","Количество функционирующих дистанционных способов взаимодействия","Значение показателя 1.2","Значение показателя 1.2 с учетом значимости","Число получателей услуг, удовлетворенных качеством, полнотой и доступностью информации о деятельности организации, размещенной на стендах организации","Число опрошенных получателей услуг, ответивших на соответствующий вопрос анкеты","Число получателей услуг, удовлетворенных качеством, полнотой и доступностью информации о деятельности организации, размещенной на сайте организации","Число опрошенных получателей услуг, ответивших на соответствующий вопрос анкеты","Значение показателя 1.3","Значение показателя 1 .3 с учетом веса"]
[null,null,null,null,null,100,30,null,100,30,null,null,null,null,100,40,{"$f":"G3+J3+P3","v":100}]
[67,"Романовский район","МБУДО  «Романовский детско-юношеский центр»",9,34,100,30,3,90,27,157,157,127,128,99.9,40,97]

{"sheet":"2КомфУслНал","index":2,"n_rows":3,"n_cols":11,"rows_kept":3,"cut":false,"hidden":false,"merged":[[0,3,0,10],[0,2,1,2],[0,1,1,1],[0,0,1,0]]}
["№ п/п","Муниципальное образование","Наименование образовательной организации","Наличие в образовательных организациях комфортных условий для предоставления услуг"]
[null,null,null,"Наличие комфортной зоны отдыха (ожидания) оборудованной соответствующей мебелью","Наличие и понятность навигации внутри организации","Наличие и доступность питьевой воды","Наличие и доступность санитарно-гигиенических помещений","Санитарное состояние помещений организации","Транспортная доступность (доступность общественного транспорта и наличие парковки)","Доступность записи на получение услуги (по телефону, с использованием сети «Интернет» на официальном сайте ор","Итого:"]
[67,"Романовский район","МБУДО «Романовский детско-юношеский центр»",1,1,1,1,1,1,1,{"$f":"SUM(D3:J3)","v":7}]

{"sheet":"2КомУслОц","index":3,"n_rows":5,"n_cols":11,"rows_kept":5,"cut":false,"hidden":false,"merged":[[0,0,2,0],[0,1,2,1],[0,2,2,2],[1,3,1,5],[1,6,1,9],[0,3,0,10],[1,10,2,10]]}
["№ п/п","Муниципальное образование","Наименование образовательной организации","Обеспечение в организации социальной сферы комфортных условий для предоставления услуг"]
[null,null,null,"2.1.1. Наличие комфортных условий для предоставления услуг",null,null,"Показатель 2.3 Доля получателей услуг, удовлетворенных комфортностью условий предоставления услуг",null,null,null,"Итого по критерию:"]
[null,null,null,"Количество комфортных условий для предоставления услуг","Значение показателя 2.1.1","Значение показателя с учетом значимости","Число получателей услуг, удовлетворенных комфортностью предоставления услуг организацией образования","Число получателей услуг, опрошенных по данному вопросу","Значение показателя 2.3","Значение показателя 2.3 с учетом значимости"]
[null,null,null,null,100,50,null,null,100,{"$f":"I4*0.5","v":50},{"$f":"F4+J4","v":100}]
[67,"Романовский район","МБУДО «Романовский детско-юношеский центр»",7,{"$f":"IF(D5<=4,D5*20,100)","v":100},50,161,164,98,{"$f":"I5*0.5","v":49},{"$f":"F5+J5","v":99}]

{"sheet":"3УслДостИнвНал","index":4,"n_rows":3,"n_cols":20,"rows_kept":3,"cut":false,"hidden":false,"merged":[[0,17,1,18],[0,19,1,19],[0,1,1,1],[0,2,1,2],[0,3,1,3],[0,4,0,9],[0,10,0,16]]}
[null,"№ п/п","Муниципальное образование","Наименование образовательной организации","Оборудование территории, прилегающей к организации, и ее помещений с учетом доступности для инвалидов:",null,null,null,null,null,"Обеспечение в организации условий доступности, позволяющих инвалидам получать услуги наравне с другими, включая:",null,null,null,null,null,null,"Значение показателя  с учетом значимости",null,"Итого:"]
[null,null,null,null,"Оборудование входных групп пандусами/подъемными платформами;","Наличие выделенных стоянок для автотранспортных средств инвалидов;","Наличие адаптированных лифтов, поручней, расширенных дверных проемов;","Наличие сменных кресел-колясок;","Наличие специально оборудованных санитарно-гигиенических помещений в организации","Количество условий","Дублирование для инвалидов по слуху и зрению звуковой и зрительной информации","Дублирование надписей, знаков и иной текстовой и графической информации знаками, выполненными рельефно-точечным шрифтом Брайля","Возможность предоставления инвалидам по слуху (слуху и зрению) услуг сурдопереводчика (тифлосурдопереводчика)","Наличие альтернативной версии официального сайта организации социальной сферы в сети «Интернет» для инвалидов по зрению","Помощь, оказываемая работниками организации, прошедшими необходимое обучение (инструктирование), по сопровождению инвалидов в помещении","Наличие возможности предоставления услуги в дистанционном режиме или на дому","Количество условий"]
[null,67,"Романовский район","МБУДО  «Романовский детско-юношеский центр»",0,1,0,0,0,{"$f":"SUM(E3:I3)","v":1},0,0,0,1,1,1,{"$f":"SUM(N3:P3)","v":3},{"$f":"SUM(K3:P3)","v":3},1,{"$f":"IF(AND(Q3=3,S3=2),100,IF(AND(Q3=2,S3=2),60,IF(AND(Q3=1,S3=2),30,R3*20)))","v":60}]

{"sheet":"3УслДостИнвОц","index":5,"n_rows":175,"n_cols":15,"rows_kept":175,"cut":false,"hidden":false,"merged":[[0,0,1,0],[0,13,1,13],[0,9,0,12],[0,3,0,5],[0,6,0,8],[0,1,1,1],[0,2,1,2]]}
["№ п/п","Муниципальное образование","Наименование образовательной организации","Показатель 3.1",null,null,"Показатель 3.2",null,null,"Показатель 3.3",null,null,null,"Итого по критерию:"]
[null,null,null,"Количество условий доступности образовательной организации для инвалидов","Значение показателя 3.1","Значение показателя 3.1 с учетом значимости","Количество условий доступности, позволяющих инвалидам получать услуги наравне с другими","Значение показателя 3.2","Значение показателя 3.2 с учетом значимости","Число получателей услуг-инвалидов, удовлетворенных доступностью услуг","Число получателей услуг-инвалидов, опрошенных по данному вопросу","Значение показателя 3.3","Значение показателя 3.3 с учетом значимости"]
[null,null,null,null,100,{"$f":"E3*0.3","v":30},null,100,{"$f":"H3*0.4","v":40},null,null,100,{"$f":"L3*0.3","v":30},{"$f":"F3+I3+M3","v":100}]
[67,"Романовский район","МБУДО  «Романовский детско-юношеский центр»",1,{"$f":"IF(D4<=4,D4*20,100)","v":20},{"$f":"E4*0.3","v":6},3,60,{"$f":"H4*0.4","v":24},8,8,{"$f":"J4/K4*100","v":100},{"$f":"L4*0.3","v":30},{"$f":"F4+I4+M4","v":60}]
[]
[]
[]
[]
[]
[]
[]
[]
[]
[]
[]
[]
[]
[]
[]
[]
[]
[]
[]
[]
[]
[]
[]
[]
[]
[]
[]
[]
[]
[]
[]
[]
[]
[]
[]
[]
[]
[]
[]
[]
[]
[]
[]
[]
[]
[]
[]
[]
[]
[]
[]
[]
[]
[]
[]
[]
[]
[]
[]
[]
[]
[]
[]
[]
[]
[]
[]
[]
[]
[]
[]
[]
[]
[]
[]
[]
[]
[]
[]
[]
[]
[]
[]
[]
[]
[]
[]
[]
[]
[]
[]
[]
[]
[]
[]
[]
[]
[]
[]
[]
[]
[]
[]
[]
[]
[]
[]
[]
[]
[]
[]
[]
[]
[]
[]
[]
[]
[]
[]
[]
[]
[]
[]
[]
[]
[]
[]
[]
[]
[]
[]
[]
[]
[]
[]
[]
[]
[]
[]
[null,null,null,null,null,null,null,null,null,null,null,null,null,null,1]
[null,null,null,null,null,null,null,null,null,null,null,null,null,null,2]
[null,null,null,null,null,null,null,null,null,null,null,null,null,null,3]
[null,null,null,null,null,null,null,null,null,null,null,null,null,null,4]
[null,null,null,null,null,null,null,null,null,null,null,null,null,null,5]
[null,null,null,null,null,null,null,null,null,null,null,null,null,null,6]
[null,null,null,null,null,null,null,null,null,null,null,null,null,null,7]
[null,null,null,null,null,null,null,null,null,null,null,null,null,null,8]
[null,null,null,null,null,null,null,null,null,null,null,null,null,null,9]
[null,null,null,null,null,null,null,null,null,null,null,null,null,null,10]
[null,null,null,null,null,null,null,null,null,null,null,null,null,null,11]
[null,null,null,null,null,null,null,null,null,null,null,null,null,null,12]
[null,null,null,null,null,null,null,null,null,null,null,null,null,null,13]
[null,null,null,null,null,null,null,null,null,null,null,null,null,null,14]
[null,null,null,null,null,null,null,null,null,null,null,null,null,null,15]
[null,null,null,null,null,null,null,null,null,null,null,null,null,null,16]
[null,null,null,null,null,null,null,null,null,null,null,null,null,null,17]
[null,null,null,null,null,null,null,null,null,null,null,null,null,null,18]
[null,null,null,null,null,null,null,null,null,null,null,null,null,null,19]
[null,null,null,null,null,null,null,null,null,null,null,null,null,null,20]
[null,null,null,null,null,null,null,null,null,null,null,null,null,null,21]
[null,null,null,null,null,null,null,null,null,null,null,null,null,null,22]
[null,null,null,null,null,null,null,null,null,null,null,null,null,null,23]
[null,null,null,null,null,null,null,null,null,null,null,null,null,null,24]
[null,null,null,null,null,null,null,null,null,null,null,null,null,null,25]
[null,null,null,null,null,null,null,null,null,null,null,null,null,null,26]
[null,null,null,null,null,null,null,null,null,null,null,null,null,null,27]
[null,null,null,null,null,null,null,null,null,null,null,null,null,null,28]
[null,null,null,null,null,null,null,null,null,null,null,null,null,null,29]
[null,null,null,null,null,null,null,null,null,null,null,null,null,null,30]
[null,null,null,null,null,null,null,null,null,null,null,null,null,null,31]
[null,null,null,null,null,null,null,null,null,null,null,null,null,null,32]

{"sheet":"4ДобрВежл","index":6,"n_rows":4,"n_cols":17,"rows_kept":4,"cut":false,"hidden":false,"merged":[[0,8,0,11],[0,12,0,15],[0,16,1,16],[0,3,2,3],[0,0,2,0],[0,1,2,1],[0,2,2,2],[0,4,0,7]]}
["№ п/п","№ п/п","Муниципальное образование","Наименование образовательной организации","Показатель 4.1 Доля получателей услуг, удовлетворенных доброжелательностью, вежливостью работников организации социальной сферы",null,null,null,"Показатель 4.2 Доля получателей услуг, удовлетворенных доброжелательностью, вежливостью работников организации социальной сферы, обеспечивающих непосредственное оказание услуги",null,null,null,"Показатель 4.3 Доля получателей услуг, удовлетворенных доброжелательностью, вежливостью работников организации социальной сферы при использовании дистанционных форм взаимодействия",null,null,null,"Итого по критерию:"]
[null,null,null,null,"Число получателей услуг, удовлетворенных доброжелательностью, вежливостью работников организации социальной сферы, обеспечивающих первичный контакт и информирование получателя услуги","Число опрошенных получателей услуг, ответивших на соответствующий вопрос анкеты","Значение показателя 4.1","Значение показателя 4.1 с учетом значимости","Число получателей услуг, удовлетворенных доброжелательностью, вежливостью работников организации социальной сферы, обеспечивающих непосредственное оказание услуги","Число опрошенных получателей услуг, ответивших на соответствующий вопрос анкеты","Значение показателя 4.2","Значение показателя 4.2 с учетом значимости","Число получателей услуг, удовлетворенных доброжелательностью, вежливостью работников организации социальной сферы при использовании дистанционных форм взаимодействия","Число опрошенных получателей услуг, ответивших на соответствующий вопрос анкеты","Значение показателя 4.3","Значение показателя 4.3 с учетом значимости"]
[null,null,null,null,null,null,100,{"$f":"G3*0.4","v":40},null,null,100,{"$f":"K3*0.4","v":40},null,null,100,{"$f":"O3*0.2","v":20},{"$f":"H3+L3+P3","v":100}]
[null,67,"Романовский район","МБУДО  «Романовский детско-юношеский центр»",164,164,{"$f":"E4/F4*100","v":100},{"$f":"G4*0.4","v":40},164,164,{"$f":"I4/J4*100","v":100},{"$f":"K4*0.4","v":40},160,164,97.8,{"$f":"O4*0.2","v":19.560000000000002},{"$f":"H4+L4+P4","v":99.56}]

{"sheet":"5УдовлУсл","index":7,"n_rows":4,"n_cols":17,"rows_kept":4,"cut":false,"hidden":false,"merged":[[0,12,0,15],[0,16,1,16],[0,0,2,0],[0,1,2,1],[0,2,2,2],[0,3,2,3],[0,4,0,7],[0,8,0,11]]}
[null,"№ п/п","Муниципальное образование","Наименование образовательной организации","Показатель 5.1 Доля получателей услуг, которые готовы рекомендовать организацию социальной сферы родственникам и знакомым",null,null,null,"Показатель 5.2 Доля получателей услуг, удовлетворенных организационными условиями предоставления услуг",null,null,null,"Показатель 5.3 Доля получателей услуг, удовлетворенных в целом условиями оказания услуг в организации",null,null,null,"Итого по критерию:"]
[null,null,null,null,"Число получателей услуг, которые готовы рекомендовать организацию родственникам и знакомым","Число опрошенных получателей услуг, ответивших на соответствующий вопрос анкеты","Значение показателя 5.1","Значение показателя 5.1 с учетом значимости","Число получателей услуг, удовлетворенных организационными условиями предоставления услуг","Число опрошенных получателей услуг, ответивших на соответствующий вопрос анкеты","Значение показателя 5.2","Значение показателя 5.2 с учетом значимости","Число получателей услуг, удовлетворенных в целом условиями оказания услуг в организации социальной сферы","Число опрошенных получателей услуг, ответивших на соответствующий вопрос анкеты","Значение показателя 5.3","Значение показателя 5.3 с учетом значимости"]
[null,null,null,null,null,null,100,{"$f":"G3*0.3","v":30},null,null,100,{"$f":"K3*0.2","v":20},null,null,100,{"$f":"O3*0.5","v":50},{"$f":"H3+L3+P3","v":100}]
[null,67,"Романовский район","МБУДО  «Романовский детско-юношеский центр»",164,164,{"$f":"E4/F4*100","v":100},{"$f":"G4*0.3","v":30},164,164,{"$f":"I4/J4*100","v":100},{"$f":"K4*0.2","v":20},163,164,99.9,{"$f":"O4*0.5","v":49.95},{"$f":"H4+L4+P4","v":99.95}]

{"sheet":"Интегр","index":8,"n_rows":200,"n_cols":23,"rows_kept":200,"cut":false,"hidden":false,"merged":[[182,0,183,0],[188,0,190,0],[192,0,194,0],[113,0,114,0],[159,0,160,0],[162,0,163,0],[166,0,168,0],[169,0,170,0],[174,0,175,0],[147,0,148,0],[149,0,150,0],[151,0,152,0],[153,0,154,0],[156,0,157,0],[107,0,108,0],[109,0,110,0],[126,0,127,0],[134,0,137,0],[145,0,146,0],[0,11,0,14],[0,15,0,18],[0,19,0,22],[0,4,0,7],[0,0,2,0],[0,1,2,1],[0,2,2,2],[0,3,2,3],[0,8,0,10],[199,0,199,2],[5,0,6,0],[7,0,8,0],[9,0,10,0],[13,0,14,0],[26,0,27,0],[34,0,37,0],[45,0,46,0],[47,0,48,0],[49,0,50,0],[51,0,52,0],[53,0,54,0],[56,0,57,0],[59,0,60,0],[62,0,63,0],[105,0,106,0],[89,0,90,0],[92,0,94,0],[66,0,68,0],[69,0,70,0],[74,0,75,0],[82,0,83,0],[86,0,87,0]]}
["Место в рейтинге","Муниципальное образование","Наименование образовательной организации","Интегральное значение показателя","1 - Показатели, характеризующие откртость и доступность информации об организации",null,null,null,"2 - Показатели, характеризующие комфортность условий предоставления услуг",null,null,"3 - Показатели, характеризующие доступность услуг для инвалидов",null,null,null,"4 - Показатели, характеризующие доброжелательность, вежливость работников организации",null,null,null,"5 - Показатели, характеризующие удовлетворенность условиями оказания услуг"]
[null,null,null,null,"1.1","1.2","1.3","К1","2.1","2.3","К2","3.1","3.2","3.3","К3","4.1","4.2","4.3","К4","5.1","5.2","5.3","К5"]
[null,null,null,null,30,30,40,100,50,50,100,30,40,30,100,40,40,20,100,30,20,50,100]
[1,"г. Барнаул","КГБУДО  «Детский технопарк Алтайского края «Кванториум.22»",{"$f":"AVERAGE(H4,K4,O4,S4,W4)","v":{"$error":"#REF!"}},{"$f":"'1ОиДинфоб'!#REF!","v":{"$error":"#REF!"}},{"$f":"'1ОиДинфоб'!#REF!","v":{"$error":"#REF!"}},{"$f":"'1ОиДинфоб'!#REF!","v":{"$error":"#REF!"}},{"$f":"E4+F4+G4","v":{"$error":"#REF!"}},{"$f":"'2КомУслОц'!#REF!","v":{"$error":"#REF!"}},{"$f":"'2КомУслОц'!#REF!","v":{"$error":"#REF!"}},{"$f":"I4+J4","v":{"$error":"#REF!"}},{"$f":"'3УслДостИнвОц'!#REF!","v":{"$error":"#REF!"}},{"$f":"'3УслДостИнвОц'!#REF!","v":{"$error":"#REF!"}},{"$f":"'3УслДостИнвОц'!#REF!","v":{"$error":"#REF!"}},{"$f":"L4+M4+N4","v":{"$error":"#REF!"}},{"$f":"'4ДобрВежл'!#REF!","v":{"$error":"#REF!"}},{"$f":"'4ДобрВежл'!#REF!","v":{"$error":"#REF!"}},{"$f":"'4ДобрВежл'!#REF!","v":{"$error":"#REF!"}},{"$f":"SUM(P4:R4)","v":{"$error":"#REF!"}},{"$f":"'5УдовлУсл'!#REF!","v":{"$error":"#REF!"}},{"$f":"'5УдовлУсл'!#REF!","v":{"$error":"#REF!"}},{"$f":"'5УдовлУсл'!#REF!","v":{"$error":"#REF!"}},{"$f":"SUM(T4:V4)","v":{"$error":"#REF!"}}]
[2,"г. Барнаул","МБУДО  Детский оздоровительно-образовательный (профильный) центр «Валеологический центр»",{"$error":"#REF!"},{"$f":"'1ОиДинфоб'!#REF!","v":{"$error":"#REF!"}},{"$f":"'1ОиДинфоб'!#REF!","v":{"$error":"#REF!"}},{"$f":"'1ОиДинфоб'!#REF!","v":{"$error":"#REF!"}},{"$error":"#REF!"},{"$f":"'2КомУслОц'!#REF!","v":{"$error":"#REF!"}},{"$f":"'2КомУслОц'!#REF!","v":{"$error":"#REF!"}},{"$error":"#REF!"},{"$f":"'3УслДостИнвОц'!#REF!","v":{"$error":"#REF!"}},{"$f":"'3УслДостИнвОц'!#REF!","v":{"$error":"#REF!"}},{"$f":"'3УслДостИнвОц'!#REF!","v":{"$error":"#REF!"}},{"$error":"#REF!"},{"$f":"'4ДобрВежл'!#REF!","v":{"$error":"#REF!"}},{"$f":"'4ДобрВежл'!#REF!","v":{"$error":"#REF!"}},{"$f":"'4ДобрВежл'!#REF!","v":{"$error":"#REF!"}},{"$error":"#REF!"},{"$f":"'5УдовлУсл'!#REF!","v":{"$error":"#REF!"}},{"$f":"'5УдовлУсл'!#REF!","v":{"$error":"#REF!"}},{"$f":"'5УдовлУсл'!#REF!","v":{"$error":"#REF!"}},{"$error":"#REF!"}]
[3,"г. Барнаул","КГБУДО «Алтайский краевой детский экологический центр»",{"$error":"#REF!"},{"$f":"'1ОиДинфоб'!#REF!","v":{"$error":"#REF!"}},{"$f":"'1ОиДинфоб'!#REF!","v":{"$error":"#REF!"}},{"$f":"'1ОиДинфоб'!#REF!","v":{"$error":"#REF!"}},{"$error":"#REF!"},{"$f":"'2КомУслОц'!#REF!","v":{"$error":"#REF!"}},{"$f":"'2КомУслОц'!#REF!","v":{"$error":"#REF!"}},{"$error":"#REF!"},{"$f":"'3УслДостИнвОц'!#REF!","v":{"$error":"#REF!"}},{"$f":"'3УслДостИнвОц'!#REF!","v":{"$error":"#REF!"}},{"$f":"'3УслДостИнвОц'!#REF!","v":{"$error":"#REF!"}},{"$error":"#REF!"},{"$f":"'4ДобрВежл'!#REF!","v":{"$error":"#REF!"}},{"$f":"'4ДобрВежл'!#REF!","v":{"$error":"#REF!"}},{"$f":"'4ДобрВежл'!#REF!","v":{"$error":"#REF!"}},{"$error":"#REF!"},{"$f":"'5УдовлУсл'!#REF!","v":{"$error":"#REF!"}},{"$f":"'5УдовлУсл'!#REF!","v":{"$error":"#REF!"}},{"$f":"'5УдовлУсл'!#REF!","v":{"$error":"#REF!"}},{"$error":"#REF!"}]
[null,"Советский район","МБУДО  «Детско-юношеский центр» Советского района",{"$f":"AVERAGE(H7,K7,O7,S7,W7)","v":{"$error":"#REF!"}},{"$f":"'1ОиДинфоб'!#REF!","v":{"$error":"#REF!"}},{"$f":"'1ОиДинфоб'!#REF!","v":{"$error":"#REF!"}},{"$f":"'1ОиДинфоб'!#REF!","v":{"$error":"#REF!"}},{"$f":"E7+F7+G7","v":{"$error":"#REF!"}},{"$f":"'2КомУслОц'!#REF!","v":{"$error":"#REF!"}},{"$f":"'2КомУслОц'!#REF!","v":{"$error":"#REF!"}},{"$f":"I7+J7","v":{"$error":"#REF!"}},{"$f":"'3УслДостИнвОц'!#REF!","v":{"$error":"#REF!"}},{"$f":"'3УслДостИнвОц'!#REF!","v":{"$error":"#REF!"}},{"$f":"'3УслДостИнвОц'!#REF!","v":{"$error":"#REF!"}},{"$f":"L7+M7+N7","v":{"$error":"#REF!"}},{"$f":"'4ДобрВежл'!#REF!","v":{"$error":"#REF!"}},{"$f":"'4ДобрВежл'!#REF!","v":{"$error":"#REF!"}},{"$f":"'4ДобрВежл'!#REF!","v":{"$error":"#REF!"}},{"$f":"SUM(P7:R7)","v":{"$error":"#REF!"}},{"$f":"'5УдовлУсл'!#REF!","v":{"$error":"#REF!"}},{"$f":"'5УдовлУсл'!#REF!","v":{"$error":"#REF!"}},{"$f":"'5УдовлУсл'!#REF!","v":{"$error":"#REF!"}},{"$f":"SUM(T7:V7)","v":{"$error":"#REF!"}}]
[4,"Баевский район","МБУДО «Баевский Центр детского творчества и профессионального обучения Алтайского края»",{"$f":"AVERAGE(H8,K8,O8,S8,W8)","v":{"$error":"#REF!"}},{"$f":"'1ОиДинфоб'!#REF!","v":{"$error":"#REF!"}},{"$f":"'1ОиДинфоб'!#REF!","v":{"$error":"#REF!"}},{"$f":"'1ОиДинфоб'!#REF!","v":{"$error":"#REF!"}},{"$f":"E8+F8+G8","v":{"$error":"#REF!"}},{"$f":"'2КомУслОц'!#REF!","v":{"$error":"#REF!"}},{"$f":"'2КомУслОц'!#REF!","v":{"$error":"#REF!"}},{"$f":"I8+J8","v":{"$error":"#REF!"}},{"$f":"'3УслДостИнвОц'!#REF!","v":{"$error":"#REF!"}},{"$f":"'3УслДостИнвОц'!#REF!","v":{"$error":"#REF!"}},{"$f":"'3УслДостИнвОц'!#REF!","v":{"$error":"#REF!"}},{"$f":"L8+M8+N8","v":{"$error":"#REF!"}},{"$f":"'4ДобрВежл'!#REF!","v":{"$error":"#REF!"}},{"$f":"'4ДобрВежл'!#REF!","v":{"$error":"#REF!"}},{"$f":"'4ДобрВежл'!#REF!","v":{"$error":"#REF!"}},{"$f":"SUM(P8:R8)","v":{"$error":"#REF!"}},{"$f":"'5УдовлУсл'!#REF!","v":{"$error":"#REF!"}},{"$f":"'5УдовлУсл'!#REF!","v":{"$error":"#REF!"}},{"$f":"'5УдовлУсл'!#REF!","v":{"$error":"#REF!"}},{"$f":"SUM(T8:V8)","v":{"$error":"#REF!"}}]
[null,"Шелаболихинский район","МКУДО «Шелаболихинская детско-юношеская спортивная школа»",{"$error":"#REF!"},{"$f":"'1ОиДинфоб'!#REF!","v":{"$error":"#REF!"}},{"$f":"'1ОиДинфоб'!#REF!","v":{"$error":"#REF!"}},{"$f":"'1ОиДинфоб'!#REF!","v":{"$error":"#REF!"}},96.3,{"$f":"'2КомУслОц'!#REF!","v":{"$error":"#REF!"}},{"$f":"'2КомУслОц'!#REF!","v":{"$error":"#REF!"}},{"$error":"#REF!"},{"$f":"'3УслДостИнвОц'!#REF!","v":{"$error":"#REF!"}},{"$f":"'3УслДостИнвОц'!#REF!","v":{"$error":"#REF!"}},{"$f":"'3УслДостИнвОц'!#REF!","v":{"$error":"#REF!"}},{"$error":"#REF!"},{"$f":"'4ДобрВежл'!#REF!","v":{"$error":"#REF!"}},{"$f":"'4ДобрВежл'!#REF!","v":{"$error":"#REF!"}},{"$f":"'4ДобрВежл'!#REF!","v":{"$error":"#REF!"}},{"$error":"#REF!"},{"$f":"'5УдовлУсл'!#REF!","v":{"$error":"#REF!"}},{"$f":"'5УдовлУсл'!#REF!","v":{"$error":"#REF!"}},{"$f":"'5УдовлУсл'!#REF!","v":{"$error":"#REF!"}},{"$error":"#REF!"}]
[5,"г. Барнаул","КГБУДО «Алтайский краевой центр детского отдыха, туризма и краеведения «Алтай»",{"$f":"AVERAGE(H10,K10,O10,S10,W10)","v":{"$error":"#REF!"}},{"$f":"'1ОиДинфоб'!#REF!","v":{"$error":"#REF!"}},{"$f":"'1ОиДинфоб'!#REF!","v":{"$error":"#REF!"}},{"$f":"'1ОиДинфоб'!#REF!","v":{"$error":"#REF!"}},{"$f":"E10+F10+G10","v":{"$error":"#REF!"}},{"$f":"'2КомУслОц'!#REF!","v":{"$error":"#REF!"}},{"$f":"'2КомУслОц'!#REF!","v":{"$error":"#REF!"}},{"$f":"I10+J10","v":{"$error":"#REF!"}},{"$f":"'3УслДостИнвОц'!#REF!","v":{"$error":"#REF!"}},{"$f":"'3УслДостИнвОц'!#REF!","v":{"$error":"#REF!"}},{"$f":"'3УслДостИнвОц'!#REF!","v":{"$error":"#REF!"}},{"$f":"L10+M10+N10","v":{"$error":"#REF!"}},{"$f":"'4ДобрВежл'!#REF!","v":{"$error":"#REF!"}},{"$f":"'4ДобрВежл'!#REF!","v":{"$error":"#REF!"}},{"$f":"'4ДобрВежл'!#REF!","v":{"$error":"#REF!"}},{"$f":"SUM(P10:R10)","v":{"$error":"#REF!"}},{"$f":"'5УдовлУсл'!#REF!","v":{"$error":"#REF!"}},{"$f":"'5УдовлУсл'!#REF!","v":{"$error":"#REF!"}},{"$f":"'5УдовлУсл'!#REF!","v":{"$error":"#REF!"}},{"$f":"SUM(T10:V10)","v":{"$error":"#REF!"}}]
[null,"г. Рубцовск","МБУДО «Станция туризма и экскурсий» г. Рубцовска",{"$error":"#REF!"},{"$f":"'1ОиДинфоб'!#REF!","v":{"$error":"#REF!"}},{"$f":"'1ОиДинфоб'!#REF!","v":{"$error":"#REF!"}},{"$f":"'1ОиДинфоб'!#REF!","v":{"$error":"#REF!"}},{"$error":"#REF!"},{"$f":"'2КомУслОц'!#REF!","v":{"$error":"#REF!"}},{"$f":"'2КомУслОц'!#REF!","v":{"$error":"#REF!"}},{"$error":"#REF!"},{"$f":"'3УслДостИнвОц'!#REF!","v":{"$error":"#REF!"}},{"$f":"'3УслДостИнвОц'!#REF!","v":{"$error":"#REF!"}},{"$f":"'3УслДостИнвОц'!#REF!","v":{"$error":"#REF!"}},{"$error":"#REF!"},{"$f":"'4ДобрВежл'!#REF!","v":{"$error":"#REF!"}},{"$f":"'4ДобрВежл'!#REF!","v":{"$error":"#REF!"}},{"$f":"'4ДобрВежл'!#REF!","v":{"$error":"#REF!"}},{"$error":"#REF!"},{"$f":"'5УдовлУсл'!#REF!","v":{"$error":"#REF!"}},{"$f":"'5УдовлУсл'!#REF!","v":{"$error":"#REF!"}},{"$f":"'5УдовлУсл'!#REF!","v":{"$error":"#REF!"}},{"$error":"#REF!"}]
[6,"Кулундинский район","МБУДО  «Центр детского творчества» Кулундинского района",{"$error":"#REF!"},{"$f":"'1ОиДинфоб'!#REF!","v":{"$error":"#REF!"}},{"$f":"'1ОиДинфоб'!#REF!","v":{"$error":"#REF!"}},{"$f":"'1ОиДинфоб'!#REF!","v":{"$error":"#REF!"}},{"$error":"#REF!"},{"$f":"'2КомУслОц'!#REF!","v":{"$error":"#REF!"}},{"$f":"'2КомУслОц'!#REF!","v":{"$error":"#REF!"}},{"$error":"#REF!"},{"$f":"'3УслДостИнвОц'!#REF!","v":{"$error":"#REF!"}},{"$f":"'3УслДостИнвОц'!#REF!","v":{"$error":"#REF!"}},{"$f":"'3УслДостИнвОц'!#REF!","v":{"$error":"#REF!"}},{"$error":"#REF!"},{"$f":"'4ДобрВежл'!#REF!","v":{"$error":"#REF!"}},{"$f":"'4ДобрВежл'!#REF!","v":{"$error":"#REF!"}},{"$f":"'4ДобрВежл'!#REF!","v":{"$error":"#REF!"}},{"$error":"#REF!"},{"$f":"'5УдовлУсл'!#REF!","v":{"$error":"#REF!"}},{"$f":"'5УдовлУсл'!#REF!","v":{"$error":"#REF!"}},{"$f":"'5УдовлУсл'!#REF!","v":{"$error":"#REF!"}},{"$error":"#REF!"}]
[7,"Алтайский район","МАОУДО «Алтайский районный детско-юношеский центр»",{"$error":"#REF!"},{"$f":"'1ОиДинфоб'!#REF!","v":{"$error":"#REF!"}},{"$f":"'1ОиДинфоб'!#REF!","v":{"$error":"#REF!"}},{"$f":"'1ОиДинфоб'!#REF!","v":{"$error":"#REF!"}},{"$error":"#REF!"},{"$f":"'2КомУслОц'!#REF!","v":{"$error":"#REF!"}},{"$f":"'2КомУслОц'!#REF!","v":{"$error":"#REF!"}},{"$error":"#REF!"},{"$f":"'3УслДостИнвОц'!#REF!","v":{"$error":"#REF!"}},{"$f":"'3УслДостИнвОц'!#REF!","v":{"$error":"#REF!"}},{"$f":"'3УслДостИнвОц'!#REF!","v":{"$error":"#REF!"}},{"$error":"#REF!"},{"$f":"'4ДобрВежл'!#REF!","v":{"$error":"#REF!"}},{"$f":"'4ДобрВежл'!#REF!","v":{"$error":"#REF!"}},{"$f":"'4ДобрВежл'!#REF!","v":{"$error":"#REF!"}},{"$error":"#REF!"},{"$f":"'5УдовлУсл'!#REF!","v":{"$error":"#REF!"}},{"$f":"'5УдовлУсл'!#REF!","v":{"$error":"#REF!"}},{"$f":"'5УдовлУсл'!#REF!","v":{"$error":"#REF!"}},{"$error":"#REF!"}]
[8,"Завьяловский район","МБОУДО «Завьяловский районный центр детского творчества»",{"$error":"#REF!"},{"$f":"'1ОиДинфоб'!#REF!","v":{"$error":"#REF!"}},{"$f":"'1ОиДинфоб'!#REF!","v":{"$error":"#REF!"}},{"$f":"'1ОиДинфоб'!#REF!","v":{"$error":"#REF!"}},{"$error":"#REF!"},{"$f":"'2КомУслОц'!#REF!","v":{"$error":"#REF!"}},{"$f":"'2КомУслОц'!#REF!","v":{"$error":"#REF!"}},{"$error":"#REF!"},{"$f":"'3УслДостИнвОц'!#REF!","v":{"$error":"#REF!"}},{"$f":"'3УслДостИнвОц'!#REF!","v":{"$error":"#REF!"}},{"$f":"'3УслДостИнвОц'!#REF!","v":{"$error":"#REF!"}},{"$error":"#REF!"},{"$f":"'4ДобрВежл'!#REF!","v":{"$error":"#REF!"}},{"$f":"'4ДобрВежл'!#REF!","v":{"$error":"#REF!"}},{"$f":"'4ДобрВежл'!#REF!","v":{"$error":"#REF!"}},{"$error":"#REF!"},{"$f":"'5УдовлУсл'!#REF!","v":{"$error":"#REF!"}},{"$f":"'5УдовлУсл'!#REF!","v":{"$error":"#REF!"}},{"$f":"'5УдовлУсл'!#REF!","v":{"$error":"#REF!"}},{"$error":"#REF!"}]
[null,"Заринский район","МБУДО  «Центр детского творчества» Заринского района",{"$error":"#REF!"},{"$f":"'1ОиДинфоб'!#REF!","v":{"$error":"#REF!"}},{"$f":"'1ОиДинфоб'!#REF!","v":{"$error":"#REF!"}},{"$f":"'1ОиДинфоб'!#REF!","v":{"$error":"#REF!"}},{"$error":"#REF!"},{"$f":"'2КомУслОц'!#REF!","v":{"$error":"#REF!"}},{"$f":"'2КомУслОц'!#REF!","v":{"$error":"#REF!"}},{"$error":"#REF!"},{"$f":"'3УслДостИнвОц'!#REF!","v":{"$error":"#REF!"}},{"$f":"'3УслДостИнвОц'!#REF!","v":{"$error":"#REF!"}},{"$f":"'3УслДостИнвОц'!#REF!","v":{"$error":"#REF!"}},{"$f":"L15+M15+N15","v":{"$error":"#REF!"}},{"$f":"'4ДобрВежл'!#REF!","v":{"$error":"#REF!"}},{"$f":"'4ДобрВежл'!#REF!","v":{"$error":"#REF!"}},{"$f":"'4ДобрВежл'!#REF!","v":{"$error":"#REF!"}},{"$error":"#REF!"},{"$f":"'5УдовлУсл'!#REF!","v":{"$error":"#REF!"}},{"$f":"'5УдовлУсл'!#REF!","v":{"$error":"#REF!"}},{"$f":"'5УдовлУсл'!#REF!","v":{"$error":"#REF!"}},{"$error":"#REF!"}]
[9,"г. Заринск","МБУДО  «Центр детского творчества» г. Заринска",{"$f":"AVERAGE(H16,K16,O16,S16,W16)","v":{"$error":"#REF!"}},{"$f":"'1ОиДинфоб'!#REF!","v":{"$error":"#REF!"}},{"$f":"'1ОиДинфоб'!#REF!","v":{"$error":"#REF!"}},{"$f":"'1ОиДинфоб'!#REF!","v":{"$error":"#REF!"}},{"$f":"E16+F16+G16","v":{"$error":"#REF!"}},{"$f":"'2КомУслОц'!#REF!","v":{"$error":"#REF!"}},{"$f":"'2КомУслОц'!#REF!","v":{"$error":"#REF!"}},{"$f":"I16+J16","v":{"$error":"#REF!"}},{"$f":"'3УслДостИнвОц'!#REF!","v":{"$error":"#REF!"}},{"$f":"'3УслДостИнвОц'!#REF!","v":{"$error":"#REF!"}},{"$f":"'3УслДостИнвОц'!#REF!","v":{"$error":"#REF!"}},{"$error":"#REF!"},{"$f":"'4ДобрВежл'!#REF!","v":{"$error":"#REF!"}},{"$f":"'4ДобрВежл'!#REF!","v":{"$error":"#REF!"}},{"$f":"'4ДобрВежл'!#REF!","v":{"$error":"#REF!"}},{"$f":"SUM(P16:R16)","v":{"$error":"#REF!"}},{"$f":"'5УдовлУсл'!#REF!","v":{"$error":"#REF!"}},{"$f":"'5УдовлУсл'!#REF!","v":{"$error":"#REF!"}},{"$f":"'5УдовлУсл'!#REF!","v":{"$error":"#REF!"}},{"$f":"SUM(T16:V16)","v":{"$error":"#REF!"}}]
[10,"Змеиногорский район","МБУДО  «Дворец творчества детей и молодежи» Змеиногорского район",{"$error":"#REF!"},{"$f":"'1ОиДинфоб'!#REF!","v":{"$error":"#REF!"}},{"$f":"'1ОиДинфоб'!#REF!","v":{"$error":"#REF!"}},{"$f":"'1ОиДинфоб'!#REF!","v":{"$error":"#REF!"}},{"$error":"#REF!"},{"$f":"'2КомУслОц'!#REF!","v":{"$error":"#REF!"}},{"$f":"'2КомУслОц'!#REF!","v":{"$error":"#REF!"}},{"$error":"#REF!"},{"$f":"'3УслДостИнвОц'!#REF!","v":{"$error":"#REF!"}},{"$f":"'3УслДостИнвОц'!#REF!","v":{"$error":"#REF!"}},{"$f":"'3УслДостИнвОц'!#REF!","v":{"$error":"#REF!"}},{"$error":"#REF!"},{"$f":"'4ДобрВежл'!#REF!","v":{"$error":"#REF!"}},{"$f":"'4ДобрВежл'!#REF!","v":{"$error":"#REF!"}},{"$f":"'4ДобрВежл'!#REF!","v":{"$error":"#REF!"}},{"$error":"#REF!"},{"$f":"'5УдовлУсл'!#REF!","v":{"$error":"#REF!"}},{"$f":"'5УдовлУсл'!#REF!","v":{"$error":"#REF!"}},{"$f":"'5УдовлУсл'!#REF!","v":{"$error":"#REF!"}},{"$error":"#REF!"}]
[11,"г. Белокуриха","МБУДО «Центр эстетического воспитания» г. Белокурихи",{"$error":"#REF!"},{"$f":"'1ОиДинфоб'!#REF!","v":{"$error":"#REF!"}},{"$f":"'1ОиДинфоб'!#REF!","v":{"$error":"#REF!"}},{"$f":"'1ОиДинфоб'!#REF!","v":{"$error":"#REF!"}},{"$error":"#REF!"},{"$f":"'2КомУслОц'!#REF!","v":{"$error":"#REF!"}},{"$f":"'2КомУслОц'!#REF!","v":{"$error":"#REF!"}},{"$error":"#REF!"},{"$f":"'3УслДостИнвОц'!#REF!","v":{"$error":"#REF!"}},{"$f":"'3УслДостИнвОц'!#REF!","v":{"$error":"#REF!"}},{"$f":"'3УслДостИнвОц'!#REF!","v":{"$error":"#REF!"}},{"$error":"#REF!"},{"$f":"'4ДобрВежл'!#REF!","v":{"$error":"#REF!"}},{"$f":"'4ДобрВежл'!#REF!","v":{"$error":"#REF!"}},{"$f":"'4ДобрВежл'!#REF!","v":{"$error":"#REF!"}},{"$error":"#REF!"},{"$f":"'5УдовлУсл'!#REF!","v":{"$error":"#REF!"}},{"$f":"'5УдовлУсл'!#REF!","v":{"$error":"#REF!"}},{"$f":"'5УдовлУсл'!#REF!","v":{"$error":"#REF!"}},{"$error":"#REF!"}]
[12,"Кытмановский район","МБУДО «Центр спорта и творчества Кытмановского района»",{"$error":"#REF!"},{"$f":"'1ОиДинфоб'!#REF!","v":{"$error":"#REF!"}},{"$f":"'1ОиДинфоб'!#REF!","v":{"$error":"#REF!"}},{"$f":"'1ОиДинфоб'!#REF!","v":{"$error":"#REF!"}},{"$error":"#REF!"},{"$f":"'2КомУслОц'!#REF!","v":{"$error":"#REF!"}},{"$f":"'2КомУслОц'!#REF!","v":{"$error":"#REF!"}},{"$error":"#REF!"},{"$f":"'3УслДостИнвОц'!#REF!","v":{"$error":"#REF!"}},{"$f":"'3УслДостИнвОц'!#REF!","v":{"$error":"#REF!"}},{"$f":"'3УслДостИнвОц'!#REF!","v":{"$error":"#REF!"}},{"$error":"#REF!"},{"$f":"'4ДобрВежл'!#REF!","v":{"$error":"#REF!"}},{"$f":"'4ДобрВежл'!#REF!","v":{"$error":"#REF!"}},{"$f":"'4ДобрВежл'!#REF!","v":{"$error":"#REF!"}},{"$error":"#REF!"},{"$f":"'5УдовлУсл'!#REF!","v":{"$error":"#REF!"}},{"$f":"'5УдовлУсл'!#REF!","v":{"$error":"#REF!"}},{"$f":"'5УдовлУсл'!#REF!","v":{"$error":"#REF!"}},{"$error":"#REF!"}]
[13,"Топчихинский район","МКУДО «Топчихинский детско-юношеский центр»",{"$error":"#REF!"},{"$f":"'1ОиДинфоб'!#REF!","v":{"$error":"#REF!"}},{"$f":"'1ОиДинфоб'!#REF!","v":{"$error":"#REF!"}},{"$f":"'1ОиДинфоб'!#REF!","v":{"$error":"#REF!"}},{"$error":"#REF!"},{"$f":"'2КомУслОц'!#REF!","v":{"$error":"#REF!"}},{"$f":"'2КомУслОц'!#REF!","v":{"$error":"#REF!"}},{"$error":"#REF!"},{"$f":"'3УслДостИнвОц'!#REF!","v":{"$error":"#REF!"}},{"$f":"'3УслДостИнвОц'!#REF!","v":{"$error":"#REF!"}},{"$f":"'3УслДостИнвОц'!#REF!","v":{"$error":"#REF!"}},{"$error":"#REF!"},{"$f":"'4ДобрВежл'!#REF!","v":{"$error":"#REF!"}},{"$f":"'4ДобрВежл'!#REF!","v":{"$error":"#REF!"}},{"$f":"'4ДобрВежл'!#REF!","v":{"$error":"#REF!"}},{"$error":"#REF!"},{"$f":"'5УдовлУсл'!#REF!","v":{"$error":"#REF!"}},{"$f":"'5УдовлУсл'!#REF!","v":{"$error":"#REF!"}},{"$f":"'5УдовлУсл'!#REF!","v":{"$error":"#REF!"}},{"$error":"#REF!"}]
[14,"г. Барнаул","МБУДО  «Детская школа искусств «Традиция» с. Власиха г. Барнаула",{"$error":"#REF!"},{"$f":"'1ОиДинфоб'!#REF!","v":{"$error":"#REF!"}},{"$f":"'1ОиДинфоб'!#REF!","v":{"$error":"#REF!"}},{"$f":"'1ОиДинфоб'!#REF!","v":{"$error":"#REF!"}},{"$error":"#REF!"},{"$f":"'2КомУслОц'!#REF!","v":{"$error":"#REF!"}},{"$f":"'2КомУслОц'!#REF!","v":{"$error":"#REF!"}},{"$error":"#REF!"},{"$f":"'3УслДостИнвОц'!#REF!","v":{"$error":"#REF!"}},{"$f":"'3УслДостИнвОц'!#REF!","v":{"$error":"#REF!"}},{"$f":"'3УслДостИнвОц'!#REF!","v":{"$error":"#REF!"}},{"$error":"#REF!"},{"$f":"'4ДобрВежл'!#REF!","v":{"$error":"#REF!"}},{"$f":"'4ДобрВежл'!#REF!","v":{"$error":"#REF!"}},{"$f":"'4ДобрВежл'!#REF!","v":{"$error":"#REF!"}},{"$error":"#REF!"},{"$f":"'5УдовлУсл'!#REF!","v":{"$error":"#REF!"}},{"$f":"'5УдовлУсл'!#REF!","v":{"$error":"#REF!"}},{"$f":"'5УдовлУсл'!#REF!","v":{"$error":"#REF!"}},{"$error":"#REF!"}]
[15,"Чарышский район","МБУДО  «Центр детского творчества»Чарышского района",{"$error":"#REF!"},{"$f":"'1ОиДинфоб'!#REF!","v":{"$error":"#REF!"}},{"$f":"'1ОиДинфоб'!#REF!","v":{"$error":"#REF!"}},{"$f":"'1ОиДинфоб'!#REF!","v":{"$error":"#REF!"}},{"$error":"#REF!"},{"$f":"'2КомУслОц'!#REF!","v":{"$error":"#REF!"}},{"$f":"'2КомУслОц'!#REF!","v":{"$error":"#REF!"}},{"$error":"#REF!"},{"$f":"'3УслДостИнвОц'!#REF!","v":{"$error":"#REF!"}},{"$f":"'3УслДостИнвОц'!#REF!","v":{"$error":"#REF!"}},{"$f":"'3УслДостИнвОц'!#REF!","v":{"$error":"#REF!"}},{"$error":"#REF!"},{"$f":"'4ДобрВежл'!#REF!","v":{"$error":"#REF!"}},{"$f":"'4ДобрВежл'!#REF!","v":{"$error":"#REF!"}},{"$f":"'4ДобрВежл'!#REF!","v":{"$error":"#REF!"}},{"$error":"#REF!"},{"$f":"'5УдовлУсл'!#REF!","v":{"$error":"#REF!"}},{"$f":"'5УдовлУсл'!#REF!","v":{"$error":"#REF!"}},{"$f":"'5УдовлУсл'!#REF!","v":{"$error":"#REF!"}},{"$error":"#REF!"}]
[16,"Крутихинский район","МБУДО  «Крутихинский Детско-юношеский центр»",{"$error":"#REF!"},{"$f":"'1ОиДинфоб'!#REF!","v":{"$error":"#REF!"}},{"$f":"'1ОиДинфоб'!#REF!","v":{"$error":"#REF!"}},{"$f":"'1ОиДинфоб'!#REF!","v":{"$error":"#REF!"}},{"$error":"#REF!"},{"$f":"'2КомУслОц'!#REF!","v":{"$error":"#REF!"}},{"$f":"'2КомУслОц'!#REF!","v":{"$error":"#REF!"}},{"$error":"#REF!"},{"$f":"'3УслДостИнвОц'!#REF!","v":{"$error":"#REF!"}},{"$f":"'3УслДостИнвОц'!#REF!","v":{"$error":"#REF!"}},{"$f":"'3УслДостИнвОц'!#REF!","v":{"$error":"#REF!"}},{"$error":"#REF!"},{"$f":"'4ДобрВежл'!#REF!","v":{"$error":"#REF!"}},{"$f":"'4ДобрВежл'!#REF!","v":{"$error":"#REF!"}},{"$f":"'4ДобрВежл'!#REF!","v":{"$error":"#REF!"}},{"$error":"#REF!"},{"$f":"'5УдовлУсл'!#REF!","v":{"$error":"#REF!"}},{"$f":"'5УдовлУсл'!#REF!","v":{"$error":"#REF!"}},{"$f":"'5УдовлУсл'!#REF!","v":{"$error":"#REF!"}},{"$error":"#REF!"}]
[17,"г. Яровое","МБУДО  «Центр научно-технического творчества учащихся» г. Яровое",{"$f":"AVERAGE(H24,K24,O24,S24,W24)","v":{"$error":"#REF!"}},{"$f":"'1ОиДинфоб'!#REF!","v":{"$error":"#REF!"}},{"$f":"'1ОиДинфоб'!#REF!","v":{"$error":"#REF!"}},{"$f":"'1ОиДинфоб'!#REF!","v":{"$error":"#REF!"}},{"$f":"E24+F24+G24","v":{"$error":"#REF!"}},{"$f":"'2КомУслОц'!#REF!","v":{"$error":"#REF!"}},{"$f":"'2КомУслОц'!#REF!","v":{"$error":"#REF!"}},{"$f":"I24+J24","v":{"$error":"#REF!"}},{"$f":"'3УслДостИнвОц'!#REF!","v":{"$error":"#REF!"}},{"$f":"'3УслДостИнвОц'!#REF!","v":{"$error":"#REF!"}},{"$f":"'3УслДостИнвОц'!#REF!","v":{"$error":"#REF!"}},{"$f":"L24+M24+N24","v":{"$error":"#REF!"}},{"$f":"'4ДобрВежл'!#REF!","v":{"$error":"#REF!"}},{"$f":"'4ДобрВежл'!#REF!","v":{"$error":"#REF!"}},{"$f":"'4ДобрВежл'!#REF!","v":{"$error":"#REF!"}},{"$f":"SUM(P24:R24)","v":{"$error":"#REF!"}},{"$f":"'5УдовлУсл'!#REF!","v":{"$error":"#REF!"}},{"$f":"'5УдовлУсл'!#REF!","v":{"$error":"#REF!"}},{"$f":"'5УдовлУсл'!#REF!","v":{"$error":"#REF!"}},{"$f":"SUM(T24:V24)","v":{"$error":"#REF!"}}]
[18,"Локтевский район","МБУДО «Дом детского творчества» Локтевского района",{"$f":"AVERAGE(H25,K25,O25,S25,W25)","v":{"$error":"#REF!"}},{"$f":"'1ОиДинфоб'!#REF!","v":{"$error":"#REF!"}},{"$f":"'1ОиДинфоб'!#REF!","v":{"$error":"#REF!"}},{"$f":"'1ОиДинфоб'!#REF!","v":{"$error":"#REF!"}},{"$f":"E25+F25+G25","v":{"$error":"#REF!"}},{"$f":"'2КомУслОц'!#REF!","v":{"$error":"#REF!"}},{"$f":"'2КомУслОц'!#REF!","v":{"$error":"#REF!"}},{"$f":"I25+J25","v":{"$error":"#REF!"}},{"$f":"'3УслДостИнвОц'!#REF!","v":{"$error":"#REF!"}},{"$f":"'3УслДостИнвОц'!#REF!","v":{"$error":"#REF!"}},{"$f":"'3УслДостИнвОц'!#REF!","v":{"$error":"#REF!"}},{"$f":"L25+M25+N25","v":{"$error":"#REF!"}},{"$f":"'4ДобрВежл'!#REF!","v":{"$error":"#REF!"}},{"$f":"'4ДобрВежл'!#REF!","v":{"$error":"#REF!"}},{"$f":"'4ДобрВежл'!#REF!","v":{"$error":"#REF!"}},{"$f":"SUM(P25:R25)","v":{"$error":"#REF!"}},{"$f":"'5УдовлУсл'!#REF!","v":{"$error":"#REF!"}},{"$f":"'5УдовлУсл'!#REF!","v":{"$error":"#REF!"}},{"$f":"'5УдовлУсл'!#REF!","v":{"$error":"#REF!"}},{"$f":"SUM(T25:V25)","v":{"$error":"#REF!"}}]
[19,"г. Барнаул","МБУДО  «Центр детского творчества №2» г. Барнаула",{"$f":"AVERAGE(H26,K26,O26,S26,W26)","v":{"$error":"#REF!"}},{"$f":"'1ОиДинфоб'!#REF!","v":{"$error":"#REF!"}},{"$f":"'1ОиДинфоб'!#REF!","v":{"$error":"#REF!"}},{"$f":"'1ОиДинфоб'!#REF!","v":{"$error":"#REF!"}},{"$f":"E26+F26+G26","v":{"$error":"#REF!"}},{"$f":"'2КомУслОц'!#REF!","v":{"$error":"#REF!"}},{"$f":"'2КомУслОц'!#REF!","v":{"$error":"#REF!"}},{"$f":"I26+J26","v":{"$error":"#REF!"}},{"$f":"'3УслДостИнвОц'!#REF!","v":{"$error":"#REF!"}},{"$f":"'3УслДостИнвОц'!#REF!","v":{"$error":"#REF!"}},{"$f":"'3УслДостИнвОц'!#REF!","v":{"$error":"#REF!"}},{"$f":"L26+M26+N26","v":{"$error":"#REF!"}},{"$f":"'4ДобрВежл'!#REF!","v":{"$error":"#REF!"}},{"$f":"'4ДобрВежл'!#REF!","v":{"$error":"#REF!"}},{"$f":"'4ДобрВежл'!#REF!","v":{"$error":"#REF!"}},{"$f":"SUM(P26:R26)","v":{"$error":"#REF!"}},{"$f":"'5УдовлУсл'!#REF!","v":{"$error":"#REF!"}},{"$f":"'5УдовлУсл'!#REF!","v":{"$error":"#REF!"}},{"$f":"'5УдовлУсл'!#REF!","v":{"$error":"#REF!"}},{"$f":"SUM(T26:V26)","v":{"$error":"#REF!"}}]
[20,"Ельцовский район","МБУДО «Ельцовский центр развития детей-детско-юношеская спортивная школа\"",{"$f":"AVERAGE(H27,K27,O27,S27,W27)","v":{"$error":"#REF!"}},{"$f":"'1ОиДинфоб'!#REF!","v":{"$error":"#REF!"}},{"$f":"'1ОиДинфоб'!#REF!","v":{"$error":"#REF!"}},{"$f":"'1ОиДинфоб'!#REF!","v":{"$error":"#REF!"}},{"$f":"E27+F27+G27","v":{"$error":"#REF!"}},{"$f":"'2КомУслОц'!#REF!","v":{"$error":"#REF!"}},{"$f":"'2КомУслОц'!#REF!","v":{"$error":"#REF!"}},{"$f":"I27+J27","v":{"$error":"#REF!"}},{"$f":"'3УслДостИнвОц'!#REF!","v":{"$error":"#REF!"}},{"$f":"'3УслДостИнвОц'!#REF!","v":{"$error":"#REF!"}},{"$f":"'3УслДостИнвОц'!#REF!","v":{"$error":"#REF!"}},{"$f":"L27+M27+N27","v":{"$error":"#REF!"}},{"$f":"'4ДобрВежл'!#REF!","v":{"$error":"#REF!"}},{"$f":"'4ДобрВежл'!#REF!","v":{"$error":"#REF!"}},{"$f":"'4ДобрВежл'!#REF!","v":{"$error":"#REF!"}},{"$f":"SUM(P27:R27)","v":{"$error":"#REF!"}},{"$f":"'5УдовлУсл'!#REF!","v":{"$error":"#REF!"}},{"$f":"'5УдовлУсл'!#REF!","v":{"$error":"#REF!"}},{"$f":"'5УдовлУсл'!#REF!","v":{"$error":"#REF!"}},{"$f":"SUM(T27:V27)","v":{"$error":"#REF!"}}]
[null,"Тальменский район","МКУДО  «Тальменская детско-юношеская спортивная школа»",{"$error":"#REF!"},{"$f":"'1ОиДинфоб'!#REF!","v":{"$error":"#REF!"}},{"$f":"'1ОиДинфоб'!#REF!","v":{"$error":"#REF!"}},{"$f":"'1ОиДинфоб'!#REF!","v":{"$error":"#REF!"}},{"$error":"#REF!"},{"$f":"'2КомУслОц'!#REF!","v":{"$error":"#REF!"}},{"$f":"'2КомУслОц'!#REF!","v":{"$error":"#REF!"}},{"$error":"#REF!"},{"$f":"'3УслДостИнвОц'!#REF!","v":{"$error":"#REF!"}},{"$f":"'3УслДостИнвОц'!#REF!","v":{"$error":"#REF!"}},{"$f":"'3УслДостИнвОц'!#REF!","v":{"$error":"#REF!"}},{"$error":"#REF!"},{"$f":"'4ДобрВежл'!#REF!","v":{"$error":"#REF!"}},{"$f":"'4ДобрВежл'!#REF!","v":{"$error":"#REF!"}},{"$f":"'4ДобрВежл'!#REF!","v":{"$error":"#REF!"}},{"$error":"#REF!"},{"$f":"'5УдовлУсл'!#REF!","v":{"$error":"#REF!"}},{"$f":"'5УдовлУсл'!#REF!","v":{"$error":"#REF!"}},{"$f":"'5УдовлУсл'!#REF!","v":{"$error":"#REF!"}},{"$error":"#REF!"}]
[21,"Благовещенский район","МБУДО  «Благовещенский детско-юношеский центр»",{"$f":"AVERAGE(H29,K29,O29,S29,W29)","v":{"$error":"#REF!"}},{"$f":"'1ОиДинфоб'!#REF!","v":{"$error":"#REF!"}},{"$f":"'1ОиДинфоб'!#REF!","v":{"$error":"#REF!"}},{"$f":"'1ОиДинфоб'!#REF!","v":{"$error":"#REF!"}},{"$f":"E29+F29+G29","v":{"$error":"#REF!"}},{"$f":"'2КомУслОц'!#REF!","v":{"$error":"#REF!"}},{"$f":"'2КомУслОц'!#REF!","v":{"$error":"#REF!"}},{"$f":"I29+J29","v":{"$error":"#REF!"}},{"$f":"'3УслДостИнвОц'!#REF!","v":{"$error":"#REF!"}},{"$f":"'3УслДостИнвОц'!#REF!","v":{"$error":"#REF!"}},{"$f":"'3УслДостИнвОц'!#REF!","v":{"$error":"#REF!"}},{"$f":"L29+M29+N29","v":{"$error":"#REF!"}},{"$f":"'4ДобрВежл'!#REF!","v":{"$error":"#REF!"}},{"$f":"'4ДобрВежл'!#REF!","v":{"$error":"#REF!"}},{"$f":"'4ДобрВежл'!#REF!","v":{"$error":"#REF!"}},{"$f":"SUM(P29:R29)","v":{"$error":"#REF!"}},{"$f":"'5УдовлУсл'!#REF!","v":{"$error":"#REF!"}},{"$f":"'5УдовлУсл'!#REF!","v":{"$error":"#REF!"}},{"$f":"'5УдовлУсл'!#REF!","v":{"$error":"#REF!"}},{"$f":"SUM(T29:V29)","v":{"$error":"#REF!"}}]
[22,"г. Барнаул","МБУДО  Городской психолого-педагогический центр «Потенциал»",{"$error":"#REF!"},{"$f":"'1ОиДинфоб'!#REF!","v":{"$error":"#REF!"}},{"$f":"'1ОиДинфоб'!#REF!","v":{"$error":"#REF!"}},{"$f":"'1ОиДинфоб'!#REF!","v":{"$error":"#REF!"}},{"$error":"#REF!"},{"$f":"'2КомУслОц'!#REF!","v":{"$error":"#REF!"}},{"$f":"'2КомУслОц'!#REF!","v":{"$error":"#REF!"}},{"$error":"#REF!"},{"$f":"'3УслДостИнвОц'!#REF!","v":{"$error":"#REF!"}},{"$f":"'3УслДостИнвОц'!#REF!","v":{"$error":"#REF!"}},{"$f":"'3УслДостИнвОц'!#REF!","v":{"$error":"#REF!"}},{"$error":"#REF!"},{"$f":"'4ДобрВежл'!#REF!","v":{"$error":"#REF!"}},{"$f":"'4ДобрВежл'!#REF!","v":{"$error":"#REF!"}},{"$f":"'4ДобрВежл'!#REF!","v":{"$error":"#REF!"}},{"$error":"#REF!"},{"$f":"'5УдовлУсл'!#REF!","v":{"$error":"#REF!"}},{"$f":"'5УдовлУсл'!#REF!","v":{"$error":"#REF!"}},{"$f":"'5УдовлУсл'!#REF!","v":{"$error":"#REF!"}},{"$error":"#REF!"}]
[23,"Новоалтайск район","МБОУДО «Детско-юношеский центр города Новоалтайска»",{"$error":"#REF!"},{"$f":"'1ОиДинфоб'!#REF!","v":{"$error":"#REF!"}},{"$f":"'1ОиДинфоб'!#REF!","v":{"$error":"#REF!"}},{"$f":"'1ОиДинфоб'!#REF!","v":{"$error":"#REF!"}},{"$error":"#REF!"},{"$f":"'2КомУслОц'!#REF!","v":{"$error":"#REF!"}},{"$f":"'2КомУслОц'!#REF!","v":{"$error":"#REF!"}},{"$error":"#REF!"},{"$f":"'3УслДостИнвОц'!#REF!","v":{"$error":"#REF!"}},{"$f":"'3УслДостИнвОц'!#REF!","v":{"$error":"#REF!"}},{"$f":"'3УслДостИнвОц'!#REF!","v":{"$error":"#REF!"}},{"$error":"#REF!"},{"$f":"'4ДобрВежл'!#REF!","v":{"$error":"#REF!"}},{"$f":"'4ДобрВежл'!#REF!","v":{"$error":"#REF!"}},{"$f":"'4ДобрВежл'!#REF!","v":{"$error":"#REF!"}},{"$error":"#REF!"},{"$f":"'5УдовлУсл'!#REF!","v":{"$error":"#REF!"}},{"$f":"'5УдовлУсл'!#REF!","v":{"$error":"#REF!"}},{"$f":"'5УдовлУсл'!#REF!","v":{"$error":"#REF!"}},{"$error":"#REF!"}]
[24,"Табунский район","МБУДО  «Центр дополнительного образования детей» Табунского района",{"$error":"#REF!"},{"$f":"'1ОиДинфоб'!#REF!","v":{"$error":"#REF!"}},{"$f":"'1ОиДинфоб'!#REF!","v":{"$error":"#REF!"}},{"$f":"'1ОиДинфоб'!#REF!","v":{"$error":"#REF!"}},{"$error":"#REF!"},{"$f":"'2КомУслОц'!#REF!","v":{"$error":"#REF!"}},{"$f":"'2КомУслОц'!#REF!","v":{"$error":"#REF!"}},{"$error":"#REF!"},{"$f":"'3УслДостИнвОц'!#REF!","v":{"$error":"#REF!"}},{"$f":"'3УслДостИнвОц'!#REF!","v":{"$error":"#REF!"}},{"$f":"'3УслДостИнвОц'!#REF!","v":{"$error":"#REF!"}},{"$error":"#REF!"},{"$f":"'4ДобрВежл'!#REF!","v":{"$error":"#REF!"}},{"$f":"'4ДобрВежл'!#REF!","v":{"$error":"#REF!"}},{"$f":"'4ДобрВежл'!#REF!","v":{"$error":"#REF!"}},{"$error":"#REF!"},{"$f":"'5УдовлУсл'!#REF!","v":{"$error":"#REF!"}},{"$f":"'5УдовлУсл'!#REF!","v":{"$error":"#REF!"}},{"$f":"'5УдовлУсл'!#REF!","v":{"$error":"#REF!"}},{"$error":"#REF!"}]
[25,"г. Барнаул","МБУДО «Центр развития творчества детей и юношества» Ленинского района г. Барнаула",{"$error":"#REF!"},{"$f":"'1ОиДинфоб'!#REF!","v":{"$error":"#REF!"}},{"$f":"'1ОиДинфоб'!#REF!","v":{"$error":"#REF!"}},{"$f":"'1ОиДинфоб'!#REF!","v":{"$error":"#REF!"}},{"$error":"#REF!"},{"$f":"'2КомУслОц'!#REF!","v":{"$error":"#REF!"}},{"$f":"'2КомУслОц'!#REF!","v":{"$error":"#REF!"}},{"$error":"#REF!"},{"$f":"'3УслДостИнвОц'!#REF!","v":{"$error":"#REF!"}},{"$f":"'3УслДостИнвОц'!#REF!","v":{"$error":"#REF!"}},{"$f":"'3УслДостИнвОц'!#REF!","v":{"$error":"#REF!"}},{"$error":"#REF!"},{"$f":"'4ДобрВежл'!#REF!","v":{"$error":"#REF!"}},{"$f":"'4ДобрВежл'!#REF!","v":{"$error":"#REF!"}},{"$f":"'4ДобрВежл'!#REF!","v":{"$error":"#REF!"}},{"$error":"#REF!"},{"$f":"'5УдовлУсл'!#REF!","v":{"$error":"#REF!"}},{"$f":"'5УдовлУсл'!#REF!","v":{"$error":"#REF!"}},{"$f":"'5УдовлУсл'!#REF!","v":{"$error":"#REF!"}},{"$error":"#REF!"}]
[26,"Чарышский район","МБУДО  «Детско-юношеская спортивная школа» Чарышского района",{"$error":"#REF!"},{"$f":"'1ОиДинфоб'!#REF!","v":{"$error":"#REF!"}},{"$f":"'1ОиДинфоб'!#REF!","v":{"$error":"#REF!"}},{"$f":"'1ОиДинфоб'!#REF!","v":{"$error":"#REF!"}},{"$error":"#REF!"},{"$f":"'2КомУслОц'!#REF!","v":{"$error":"#REF!"}},{"$f":"'2КомУслОц'!#REF!","v":{"$error":"#REF!"}},{"$error":"#REF!"},{"$f":"'3УслДостИнвОц'!#REF!","v":{"$error":"#REF!"}},{"$f":"'3УслДостИнвОц'!#REF!","v":{"$error":"#REF!"}},{"$f":"'3УслДостИнвОц'!#REF!","v":{"$error":"#REF!"}},{"$error":"#REF!"},{"$f":"'4ДобрВежл'!#REF!","v":{"$error":"#REF!"}},{"$f":"'4ДобрВежл'!#REF!","v":{"$error":"#REF!"}},{"$f":"'4ДобрВежл'!#REF!","v":{"$error":"#REF!"}},{"$error":"#REF!"},{"$f":"'5УдовлУсл'!#REF!","v":{"$error":"#REF!"}},{"$f":"'5УдовлУсл'!#REF!","v":{"$error":"#REF!"}},{"$f":"'5УдовлУсл'!#REF!","v":{"$error":"#REF!"}},{"$error":"#REF!"}]
[27,"Мамонтовский район","МБУДО  «Мамонтовский детско-юношеский центр»",{"$error":"#REF!"},{"$f":"'1ОиДинфоб'!#REF!","v":{"$error":"#REF!"}},{"$f":"'1ОиДинфоб'!#REF!","v":{"$error":"#REF!"}},{"$f":"'1ОиДинфоб'!#REF!","v":{"$error":"#REF!"}},{"$error":"#REF!"},{"$f":"'2КомУслОц'!#REF!","v":{"$error":"#REF!"}},{"$f":"'2КомУслОц'!#REF!","v":{"$error":"#REF!"}},{"$error":"#REF!"},{"$f":"'3УслДостИнвОц'!#REF!","v":{"$error":"#REF!"}},{"$f":"'3УслДостИнвОц'!#REF!","v":{"$error":"#REF!"}},{"$f":"'3УслДостИнвОц'!#REF!","v":{"$error":"#REF!"}},{"$error":"#REF!"},{"$f":"'4ДобрВежл'!#REF!","v":{"$error":"#REF!"}},{"$f":"'4ДобрВежл'!#REF!","v":{"$error":"#REF!"}},{"$f":"'4ДобрВежл'!#REF!","v":{"$error":"#REF!"}},{"$error":"#REF!"},{"$f":"'5УдовлУсл'!#REF!","v":{"$error":"#REF!"}},{"$f":"'5УдовлУсл'!#REF!","v":{"$error":"#REF!"}},{"$f":"'5УдовлУсл'!#REF!","v":{"$error":"#REF!"}},{"$error":"#REF!"}]
[null,"Новичихинский район","МКОУДО «Новичихинская детско-юношеская спортивная школа»",{"$error":"#REF!"},{"$f":"'1ОиДинфоб'!#REF!","v":{"$error":"#REF!"}},{"$f":"'1ОиДинфоб'!#REF!","v":{"$error":"#REF!"}},{"$f":"'1ОиДинфоб'!#REF!","v":{"$error":"#REF!"}},{"$error":"#REF!"},{"$f":"'2КомУслОц'!#REF!","v":{"$error":"#REF!"}},{"$f":"'2КомУслОц'!#REF!","v":{"$error":"#REF!"}},{"$error":"#REF!"},{"$f":"'3УслДостИнвОц'!#REF!","v":{"$error":"#REF!"}},{"$f":"'3УслДостИнвОц'!#REF!","v":{"$error":"#REF!"}},{"$f":"'3УслДостИнвОц'!#REF!","v":{"$error":"#REF!"}},{"$error":"#REF!"},{"$f":"'4ДобрВежл'!#REF!","v":{"$error":"#REF!"}},{"$f":"'4ДобрВежл'!#REF!","v":{"$error":"#REF!"}},{"$f":"'4ДобрВежл'!#REF!","v":{"$error":"#REF!"}},{"$error":"#REF!"},{"$f":"'5УдовлУсл'!#REF!","v":{"$error":"#REF!"}},{"$f":"'5УдовлУсл'!#REF!","v":{"$error":"#REF!"}},{"$f":"'5УдовлУсл'!#REF!","v":{"$error":"#REF!"}},{"$error":"#REF!"}]
[null,"Ребрихинский район","МКОУДО «Ребрихинский детско-юношеский центр»",{"$f":"AVERAGE(H37,K37,O37,S37,W37)","v":{"$error":"#REF!"}},{"$f":"'1ОиДинфоб'!#REF!","v":{"$error":"#REF!"}},{"$f":"'1ОиДинфоб'!#REF!","v":{"$error":"#REF!"}},{"$f":"'1ОиДинфоб'!#REF!","v":{"$error":"#REF!"}},{"$f":"E37+F37+G37","v":{"$error":"#REF!"}},{"$f":"'2КомУслОц'!#REF!","v":{"$error":"#REF!"}},{"$f":"'2КомУслОц'!#REF!","v":{"$error":"#REF!"}},{"$f":"I37+J37","v":{"$error":"#REF!"}},{"$f":"'3УслДостИнвОц'!#REF!","v":{"$error":"#REF!"}},{"$f":"'3УслДостИнвОц'!#REF!","v":{"$error":"#REF!"}},{"$f":"'3УслДостИнвОц'!#REF!","v":{"$error":"#REF!"}},{"$f":"L37+M37+N37","v":{"$error":"#REF!"}},{"$f":"'4ДобрВежл'!#REF!","v":{"$error":"#REF!"}},{"$f":"'4ДобрВежл'!#REF!","v":{"$error":"#REF!"}},{"$f":"'4ДобрВежл'!#REF!","v":{"$error":"#REF!"}},{"$f":"SUM(P37:R37)","v":{"$error":"#REF!"}},{"$f":"'5УдовлУсл'!#REF!","v":{"$error":"#REF!"}},{"$f":"'5УдовлУсл'!#REF!","v":{"$error":"#REF!"}},{"$f":"'5УдовлУсл'!#REF!","v":{"$error":"#REF!"}},{"$f":"SUM(T37:V37)","v":{"$error":"#REF!"}}]
[null,"г. Славгород","МБУДО  «Центр творчества детей и молодежи» г. Славгорода",{"$f":"AVERAGE(H38,K38,O38,S38,W38)","v":{"$error":"#REF!"}},{"$f":"'1ОиДинфоб'!#REF!","v":{"$error":"#REF!"}},{"$f":"'1ОиДинфоб'!#REF!","v":{"$error":"#REF!"}},{"$f":"'1ОиДинфоб'!#REF!","v":{"$error":"#REF!"}},{"$f":"E38+F38+G38","v":{"$error":"#REF!"}},{"$f":"'2КомУслОц'!#REF!","v":{"$error":"#REF!"}},{"$f":"'2КомУслОц'!#REF!","v":{"$error":"#REF!"}},{"$f":"I38+J38","v":{"$error":"#REF!"}},{"$f":"'3УслДостИнвОц'!#REF!","v":{"$error":"#REF!"}},{"$f":"'3УслДостИнвОц'!#REF!","v":{"$error":"#REF!"}},{"$f":"'3УслДостИнвОц'!#REF!","v":{"$error":"#REF!"}},{"$f":"L38+M38+N38","v":{"$error":"#REF!"}},{"$f":"'4ДобрВежл'!#REF!","v":{"$error":"#REF!"}},{"$f":"'4ДобрВежл'!#REF!","v":{"$error":"#REF!"}},{"$f":"'4ДобрВежл'!#REF!","v":{"$error":"#REF!"}},{"$f":"SUM(P38:R38)","v":{"$error":"#REF!"}},{"$f":"'5УдовлУсл'!#REF!","v":{"$error":"#REF!"}},{"$f":"'5УдовлУсл'!#REF!","v":{"$error":"#REF!"}},{"$f":"'5УдовлУсл'!#REF!","v":{"$error":"#REF!"}},{"$f":"SUM(T38:V38)","v":{"$error":"#REF!"}}]
[28,"Романовский район","МБУДО  «Романовский детско-юношеский центр»",{"$f":"AVERAGE(H39,K39,O39,S39,W39)","v":91.102000000000004},{"$f":"'1ОиДинфоб'!G4","v":30},{"$f":"'1ОиДинфоб'!J4","v":27},{"$f":"'1ОиДинфоб'!P4","v":40},{"$f":"E39+F39+G39","v":97},{"$f":"'2КомУслОц'!F5","v":50},{"$f":"'2КомУслОц'!J5","v":49},{"$f":"I39+J39","v":99},{"$f":"'3УслДостИнвОц'!F4","v":6},{"$f":"'3УслДостИнвОц'!I4","v":24},{"$f":"'3УслДостИнвОц'!M4","v":30},{"$f":"L39+M39+N39","v":60},{"$f":"'4ДобрВежл'!H4","v":40},{"$f":"'4ДобрВежл'!L4","v":40},{"$f":"'4ДобрВежл'!P4","v":19.560000000000002},{"$f":"SUM(P39:R39)","v":99.56},{"$f":"'5УдовлУсл'!H4","v":30},{"$f":"'5УдовлУсл'!L4","v":20},{"$f":"'5УдовлУсл'!P4","v":49.95},{"$f":"SUM(T39:V39)","v":99.95}]
[29,"Шелаболихинский район","МБУДО  «Шелаболихинский центр детского творчества»",{"$f":"AVERAGE(H40,K40,O40,S40,W40)","v":{"$error":"#REF!"}},{"$f":"'1ОиДинфоб'!#REF!","v":{"$error":"#REF!"}},{"$f":"'1ОиДинфоб'!#REF!","v":{"$error":"#REF!"}},{"$f":"'1ОиДинфоб'!#REF!","v":{"$error":"#REF!"}},{"$f":"E40+F40+G40","v":{"$error":"#REF!"}},{"$f":"'2КомУслОц'!#REF!","v":{"$error":"#REF!"}},{"$f":"'2КомУслОц'!#REF!","v":{"$error":"#REF!"}},{"$f":"I40+J40","v":{"$error":"#REF!"}},{"$f":"'3УслДостИнвОц'!#REF!","v":{"$error":"#REF!"}},{"$f":"'3УслДостИнвОц'!#REF!","v":{"$error":"#REF!"}},{"$f":"'3УслДостИнвОц'!#REF!","v":{"$error":"#REF!"}},{"$f":"L40+M40+N40","v":{"$error":"#REF!"}},{"$f":"'4ДобрВежл'!#REF!","v":{"$error":"#REF!"}},{"$f":"'4ДобрВежл'!#REF!","v":{"$error":"#REF!"}},{"$f":"'4ДобрВежл'!#REF!","v":{"$error":"#REF!"}},{"$f":"SUM(P40:R40)","v":{"$error":"#REF!"}},{"$f":"'5УдовлУсл'!#REF!","v":{"$error":"#REF!"}},{"$f":"'5УдовлУсл'!#REF!","v":{"$error":"#REF!"}},{"$f":"'5УдовлУсл'!#REF!","v":{"$error":"#REF!"}},{"$f":"SUM(T40:V40)","v":{"$error":"#REF!"}}]
[30,"Поспелихинский район","МКУДО «Поспелихинский районный центр детского творчества»",{"$error":"#REF!"},{"$f":"'1ОиДинфоб'!#REF!","v":{"$error":"#REF!"}},{"$f":"'1ОиДинфоб'!#REF!","v":{"$error":"#REF!"}},{"$f":"'1ОиДинфоб'!#REF!","v":{"$error":"#REF!"}},{"$error":"#REF!"},{"$f":"'2КомУслОц'!#REF!","v":{"$error":"#REF!"}},{"$f":"'2КомУслОц'!#REF!","v":{"$error":"#REF!"}},{"$error":"#REF!"},{"$f":"'3УслДостИнвОц'!#REF!","v":{"$error":"#REF!"}},{"$f":"'3УслДостИнвОц'!#REF!","v":{"$error":"#REF!"}},{"$f":"'3УслДостИнвОц'!#REF!","v":{"$error":"#REF!"}},{"$error":"#REF!"},{"$f":"'4ДобрВежл'!#REF!","v":{"$error":"#REF!"}},{"$f":"'4ДобрВежл'!#REF!","v":{"$error":"#REF!"}},{"$f":"'4ДобрВежл'!#REF!","v":{"$error":"#REF!"}},{"$error":"#REF!"},{"$f":"'5УдовлУсл'!#REF!","v":{"$error":"#REF!"}},{"$f":"'5УдовлУсл'!#REF!","v":{"$error":"#REF!"}},{"$f":"'5УдовлУсл'!#REF!","v":{"$error":"#REF!"}},{"$error":"#REF!"}]
[31,"Родинский район","МБУДО  «Детский оздоровительно-образовательный центр Родинского района",{"$f":"AVERAGE(H42,K42,O42,S42,W42)","v":{"$error":"#REF!"}},{"$f":"'1ОиДинфоб'!#REF!","v":{"$error":"#REF!"}},{"$f":"'1ОиДинфоб'!#REF!","v":{"$error":"#REF!"}},{"$f":"'1ОиДинфоб'!#REF!","v":{"$error":"#REF!"}},{"$f":"E42+F42+G42","v":{"$error":"#REF!"}},{"$f":"'2КомУслОц'!#REF!","v":{"$error":"#REF!"}},{"$f":"'2КомУслОц'!#REF!","v":{"$error":"#REF!"}},{"$f":"I42+J42","v":{"$error":"#REF!"}},{"$f":"'3УслДостИнвОц'!#REF!","v":{"$error":"#REF!"}},{"$f":"'3УслДостИнвОц'!#REF!","v":{"$error":"#REF!"}},{"$f":"'3УслДостИнвОц'!#REF!","v":{"$error":"#REF!"}},{"$f":"L42+M42+N42","v":{"$error":"#REF!"}},{"$f":"'4ДобрВежл'!#REF!","v":{"$error":"#REF!"}},{"$f":"'4ДобрВежл'!#REF!","v":{"$error":"#REF!"}},{"$f":"'4ДобрВежл'!#REF!","v":{"$error":"#REF!"}},{"$f":"SUM(P42:R42)","v":{"$error":"#REF!"}},{"$f":"'5УдовлУсл'!#REF!","v":{"$error":"#REF!"}},{"$f":"'5УдовлУсл'!#REF!","v":{"$error":"#REF!"}},{"$f":"'5УдовлУсл'!#REF!","v":{"$error":"#REF!"}},{"$f":"SUM(T42:V42)","v":{"$error":"#REF!"}}]
[32,"г. Алейск","МБУДО «Центр детского творчества» (г. Алейск)",{"$error":"#REF!"},{"$f":"'1ОиДинфоб'!#REF!","v":{"$error":"#REF!"}},{"$f":"'1ОиДинфоб'!#REF!","v":{"$error":"#REF!"}},{"$f":"'1ОиДинфоб'!#REF!","v":{"$error":"#REF!"}},{"$error":"#REF!"},{"$f":"'2КомУслОц'!#REF!","v":{"$error":"#REF!"}},{"$f":"'2КомУслОц'!#REF!","v":{"$error":"#REF!"}},{"$error":"#REF!"},{"$f":"'3УслДостИнвОц'!#REF!","v":{"$error":"#REF!"}},{"$f":"'3УслДостИнвОц'!#REF!","v":{"$error":"#REF!"}},{"$f":"'3УслДостИнвОц'!#REF!","v":{"$error":"#REF!"}},{"$error":"#REF!"},{"$f":"'4ДобрВежл'!#REF!","v":{"$error":"#REF!"}},{"$f":"'4ДобрВежл'!#REF!","v":{"$error":"#REF!"}},{"$f":"'4ДобрВежл'!#REF!","v":{"$error":"#REF!"}},{"$error":"#REF!"},{"$f":"'5УдовлУсл'!#REF!","v":{"$error":"#REF!"}},{"$f":"'5УдовлУсл'!#REF!","v":{"$error":"#REF!"}},{"$f":"'5УдовлУсл'!#REF!","v":{"$error":"#REF!"}},{"$error":"#REF!"}]
[33,"Тальменский район","МКУДО «Тальменский центр внешкольной работы»",{"$error":"#REF!"},{"$f":"'1ОиДинфоб'!#REF!","v":{"$error":"#REF!"}},{"$f":"'1ОиДинфоб'!#REF!","v":{"$error":"#REF!"}},{"$f":"'1ОиДинфоб'!#REF!","v":{"$error":"#REF!"}},{"$error":"#REF!"},{"$f":"'2КомУслОц'!#REF!","v":{"$error":"#REF!"}},{"$f":"'2КомУслОц'!#REF!","v":{"$error":"#REF!"}},{"$error":"#REF!"},{"$f":"'3УслДостИнвОц'!#REF!","v":{"$error":"#REF!"}},{"$f":"'3УслДостИнвОц'!#REF!","v":{"$error":"#REF!"}},{"$f":"'3УслДостИнвОц'!#REF!","v":{"$error":"#REF!"}},{"$error":"#REF!"},{"$f":"'4ДобрВежл'!#REF!","v":{"$error":"#REF!"}},{"$f":"'4ДобрВежл'!#REF!","v":{"$error":"#REF!"}},{"$f":"'4ДобрВежл'!#REF!","v":{"$error":"#REF!"}},{"$error":"#REF!"},{"$f":"'5УдовлУсл'!#REF!","v":{"$error":"#REF!"}},{"$f":"'5УдовлУсл'!#REF!","v":{"$error":"#REF!"}},{"$f":"'5УдовлУсл'!#REF!","v":{"$error":"#REF!"}},{"$error":"#REF!"}]
[34,"г. Барнаул","МБУДО «Центр детского творчества» Центрального района г. Барнаула",{"$f":"AVERAGE(H45,K45,O45,S45,W45)","v":{"$error":"#REF!"}},{"$f":"'1ОиДинфоб'!#REF!","v":{"$error":"#REF!"}},{"$f":"'1ОиДинфоб'!#REF!","v":{"$error":"#REF!"}},{"$f":"'1ОиДинфоб'!#REF!","v":{"$error":"#REF!"}},{"$f":"E45+F45+G45","v":{"$error":"#REF!"}},{"$f":"'2КомУслОц'!#REF!","v":{"$error":"#REF!"}},{"$f":"'2КомУслОц'!#REF!","v":{"$error":"#REF!"}},{"$f":"I45+J45","v":{"$error":"#REF!"}},{"$f":"'3УслДостИнвОц'!#REF!","v":{"$error":"#REF!"}},{"$f":"'3УслДостИнвОц'!#REF!","v":{"$error":"#REF!"}},{"$f":"'3УслДостИнвОц'!#REF!","v":{"$error":"#REF!"}},{"$f":"L45+M45+N45","v":{"$error":"#REF!"}},{"$f":"'4ДобрВежл'!#REF!","v":{"$error":"#REF!"}},{"$f":"'4ДобрВежл'!#REF!","v":{"$error":"#REF!"}},{"$f":"'4ДобрВежл'!#REF!","v":{"$error":"#REF!"}},{"$f":"SUM(P45:R45)","v":{"$error":"#REF!"}},{"$f":"'5УдовлУсл'!#REF!","v":{"$error":"#REF!"}},{"$f":"'5УдовлУсл'!#REF!","v":{"$error":"#REF!"}},{"$f":"'5УдовлУсл'!#REF!","v":{"$error":"#REF!"}},{"$f":"SUM(T45:V45)","v":{"$error":"#REF!"}}]
[35,"г. Барнаул","КГБУДО «Алтайский краевой дворец творчества детей и молодежи»",{"$error":"#REF!"},{"$f":"'1ОиДинфоб'!#REF!","v":{"$error":"#REF!"}},{"$f":"'1ОиДинфоб'!#REF!","v":{"$error":"#REF!"}},{"$f":"'1ОиДинфоб'!#REF!","v":{"$error":"#REF!"}},{"$error":"#REF!"},{"$f":"'2КомУслОц'!#REF!","v":{"$error":"#REF!"}},{"$f":"'2КомУслОц'!#REF!","v":{"$error":"#REF!"}},{"$error":"#REF!"},{"$f":"'3УслДостИнвОц'!#REF!","v":{"$error":"#REF!"}},{"$f":"'3УслДостИнвОц'!#REF!","v":{"$error":"#REF!"}},{"$f":"'3УслДостИнвОц'!#REF!","v":{"$error":"#REF!"}},{"$error":"#REF!"},{"$f":"'4ДобрВежл'!#REF!","v":{"$error":"#REF!"}},{"$f":"'4ДобрВежл'!#REF!","v":{"$error":"#REF!"}},{"$f":"'4ДобрВежл'!#REF!","v":{"$error":"#REF!"}},{"$error":"#REF!"},{"$f":"'5УдовлУсл'!#REF!","v":{"$error":"#REF!"}},{"$f":"'5УдовлУсл'!#REF!","v":{"$error":"#REF!"}},{"$f":"'5УдовлУсл'!#REF!","v":{"$error":"#REF!"}},{"$error":"#REF!"}]
[null,"Смоленский район","МБУДО  «Смоленский дом детского творчества»",{"$f":"AVERAGE(H47,K47,O47,S47,W47)","v":{"$error":"#REF!"}},{"$f":"'1ОиДинфоб'!#REF!","v":{"$error":"#REF!"}},{"$f":"'1ОиДинфоб'!#REF!","v":{"$error":"#REF!"}},{"$f":"'1ОиДинфоб'!#REF!","v":{"$error":"#REF!"}},{"$f":"E47+F47+G47","v":{"$error":"#REF!"}},{"$f":"'2КомУслОц'!#REF!","v":{"$error":"#REF!"}},{"$f":"'2КомУслОц'!#REF!","v":{"$error":"#REF!"}},{"$f":"I47+J47","v":{"$error":"#REF!"}},{"$f":"'3УслДостИнвОц'!#REF!","v":{"$error":"#REF!"}},{"$f":"'3УслДостИнвОц'!#REF!","v":{"$error":"#REF!"}},{"$f":"'3УслДостИнвОц'!#REF!","v":{"$error":"#REF!"}},{"$f":"L47+M47+N47","v":{"$error":"#REF!"}},{"$f":"'4ДобрВежл'!#REF!","v":{"$error":"#REF!"}},{"$f":"'4ДобрВежл'!#REF!","v":{"$error":"#REF!"}},{"$f":"'4ДобрВежл'!#REF!","v":{"$error":"#REF!"}},{"$f":"SUM(P47:R47)","v":{"$error":"#REF!"}},{"$f":"'5УдовлУсл'!#REF!","v":{"$error":"#REF!"}},{"$f":"'5УдовлУсл'!#REF!","v":{"$error":"#REF!"}},{"$f":"'5УдовлУсл'!#REF!","v":{"$error":"#REF!"}},{"$f":"SUM(T47:V47)","v":{"$error":"#REF!"}}]
[36,"г. Бийск","МБУДО  «Детский эколого-туристический центр» г. Бийска",{"$error":"#REF!"},{"$f":"'1ОиДинфоб'!#REF!","v":{"$error":"#REF!"}},{"$f":"'1ОиДинфоб'!#REF!","v":{"$error":"#REF!"}},{"$f":"'1ОиДинфоб'!#REF!","v":{"$error":"#REF!"}},{"$error":"#REF!"},{"$f":"'2КомУслОц'!#REF!","v":{"$error":"#REF!"}},{"$f":"'2КомУслОц'!#REF!","v":{"$error":"#REF!"}},{"$error":"#REF!"},{"$f":"'3УслДостИнвОц'!#REF!","v":{"$error":"#REF!"}},{"$f":"'3УслДостИнвОц'!#REF!","v":{"$error":"#REF!"}},{"$f":"'3УслДостИнвОц'!#REF!","v":{"$error":"#REF!"}},{"$error":"#REF!"},{"$f":"'4ДобрВежл'!#REF!","v":{"$error":"#REF!"}},{"$f":"'4ДобрВежл'!#REF!","v":{"$error":"#REF!"}},{"$f":"'4ДобрВежл'!#REF!","v":{"$error":"#REF!"}},{"$error":"#REF!"},{"$f":"'5УдовлУсл'!#REF!","v":{"$error":"#REF!"}},{"$f":"'5УдовлУсл'!#REF!","v":{"$error":"#REF!"}},{"$f":"'5УдовлУсл'!#REF!","v":{"$error":"#REF!"}},{"$error":"#REF!"}]
[null,"Михайловский район","МКОДО «Михайловский образовательно-оздоровительный центр Им. Ю.А. Гагарина» ",{"$error":"#REF!"},{"$f":"'1ОиДинфоб'!#REF!","v":{"$error":"#REF!"}},{"$f":"'1ОиДинфоб'!#REF!","v":{"$error":"#REF!"}},{"$f":"'1ОиДинфоб'!#REF!","v":{"$error":"#REF!"}},{"$error":"#REF!"},{"$f":"'2КомУслОц'!#REF!","v":{"$error":"#REF!"}},{"$f":"'2КомУслОц'!#REF!","v":{"$error":"#REF!"}},{"$error":"#REF!"},{"$f":"'3УслДостИнвОц'!#REF!","v":{"$error":"#REF!"}},{"$f":"'3УслДостИнвОц'!#REF!","v":{"$error":"#REF!"}},{"$f":"'3УслДостИнвОц'!#REF!","v":{"$error":"#REF!"}},{"$error":"#REF!"},{"$f":"'4ДобрВежл'!#REF!","v":{"$error":"#REF!"}},{"$f":"'4ДобрВежл'!#REF!","v":{"$error":"#REF!"}},{"$f":"'4ДобрВежл'!#REF!","v":{"$error":"#REF!"}},{"$error":"#REF!"},{"$f":"'5УдовлУсл'!#REF!","v":{"$error":"#REF!"}},{"$f":"'5УдовлУсл'!#REF!","v":{"$error":"#REF!"}},{"$f":"'5УдовлУсл'!#REF!","v":{"$error":"#REF!"}},{"$error":"#REF!"}]
[37,"г. Барнаул","МБУДО  «Центр развития творчества детей и юношества» Индустриального района г. Барнаула",{"$error":"#REF!"},{"$f":"'1ОиДинфоб'!#REF!","v":{"$error":"#REF!"}},{"$f":"'1ОиДинфоб'!#REF!","v":{"$error":"#REF!"}},{"$f":"'1ОиДинфоб'!#REF!","v":{"$error":"#REF!"}},{"$error":"#REF!"},{"$f":"'2КомУслОц'!#REF!","v":{"$error":"#REF!"}},{"$f":"'2КомУслОц'!#REF!","v":{"$error":"#REF!"}},{"$error":"#REF!"},{"$f":"'3УслДостИнвОц'!#REF!","v":{"$error":"#REF!"}},{"$f":"'3УслДостИнвОц'!#REF!","v":{"$error":"#REF!"}},{"$f":"'3УслДостИнвОц'!#REF!","v":{"$error":"#REF!"}},{"$error":"#REF!"},{"$f":"'4ДобрВежл'!#REF!","v":{"$error":"#REF!"}},{"$f":"'4ДобрВежл'!#REF!","v":{"$error":"#REF!"}},{"$f":"'4ДобрВежл'!#REF!","v":{"$error":"#REF!"}},{"$error":"#REF!"},{"$f":"'5УдовлУсл'!#REF!","v":{"$error":"#REF!"}},{"$f":"'5УдовлУсл'!#REF!","v":{"$error":"#REF!"}},{"$f":"'5УдовлУсл'!#REF!","v":{"$error":"#REF!"}},{"$error":"#REF!"}]
[null,"Бийский район","МБУДО  «Центр внешкольной работы» Бийского района",{"$error":"#REF!"},{"$f":"'1ОиДинфоб'!#REF!","v":{"$error":"#REF!"}},{"$f":"'1ОиДинфоб'!#REF!","v":{"$error":"#REF!"}},{"$f":"'1ОиДинфоб'!#REF!","v":{"$error":"#REF!"}},{"$error":"#REF!"},{"$f":"'2КомУслОц'!#REF!","v":{"$error":"#REF!"}},{"$f":"'2КомУслОц'!#REF!","v":{"$error":"#REF!"}},{"$error":"#REF!"},{"$f":"'3УслДостИнвОц'!#REF!","v":{"$error":"#REF!"}},{"$f":"'3УслДостИнвОц'!#REF!","v":{"$error":"#REF!"}},{"$f":"'3УслДостИнвОц'!#REF!","v":{"$error":"#REF!"}},{"$error":"#REF!"},{"$f":"'4ДобрВежл'!#REF!","v":{"$error":"#REF!"}},{"$f":"'4ДобрВежл'!#REF!","v":{"$error":"#REF!"}},{"$f":"'4ДобрВежл'!#REF!","v":{"$error":"#REF!"}},{"$error":"#REF!"},{"$f":"'5УдовлУсл'!#REF!","v":{"$error":"#REF!"}},{"$f":"'5УдовлУсл'!#REF!","v":{"$error":"#REF!"}},{"$f":"'5УдовлУсл'!#REF!","v":{"$error":"#REF!"}},{"$error":"#REF!"}]
[38,"г. Барнаул","МБУДО  «Центр эстетического воспитания «Песнохорки»",{"$error":"#REF!"},{"$f":"'1ОиДинфоб'!#REF!","v":{"$error":"#REF!"}},{"$f":"'1ОиДинфоб'!#REF!","v":{"$error":"#REF!"}},{"$f":"'1ОиДинфоб'!#REF!","v":{"$error":"#REF!"}},{"$error":"#REF!"},{"$f":"'2КомУслОц'!#REF!","v":{"$error":"#REF!"}},{"$f":"'2КомУслОц'!#REF!","v":{"$error":"#REF!"}},{"$error":"#REF!"},{"$f":"'3УслДостИнвОц'!#REF!","v":{"$error":"#REF!"}},{"$f":"'3УслДостИнвОц'!#REF!","v":{"$error":"#REF!"}},{"$f":"'3УслДостИнвОц'!#REF!","v":{"$error":"#REF!"}},{"$error":"#REF!"},{"$f":"'4ДобрВежл'!#REF!","v":{"$error":"#REF!"}},{"$f":"'4ДобрВежл'!#REF!","v":{"$error":"#REF!"}},{"$f":"'4ДобрВежл'!#REF!","v":{"$error":"#REF!"}},{"$error":"#REF!"},{"$f":"'5УдовлУсл'!#REF!","v":{"$error":"#REF!"}},{"$f":"'5УдовлУсл'!#REF!","v":{"$error":"#REF!"}},{"$f":"'5УдовлУсл'!#REF!","v":{"$error":"#REF!"}},{"$error":"#REF!"}]
[null,"г. Бийск","МБУДО  «Дом детского творчества» г. Бийска",{"$error":"#REF!"},{"$f":"'1ОиДинфоб'!#REF!","v":{"$error":"#REF!"}},{"$f":"'1ОиДинфоб'!#REF!","v":{"$error":"#REF!"}},{"$f":"'1ОиДинфоб'!#REF!","v":{"$error":"#REF!"}},{"$error":"#REF!"},{"$f":"'2КомУслОц'!#REF!","v":{"$error":"#REF!"}},{"$f":"'2КомУслОц'!#REF!","v":{"$error":"#REF!"}},{"$error":"#REF!"},{"$f":"'3УслДостИнвОц'!#REF!","v":{"$error":"#REF!"}},{"$f":"'3УслДостИнвОц'!#REF!","v":{"$error":"#REF!"}},{"$f":"'3УслДостИнвОц'!#REF!","v":{"$error":"#REF!"}},{"$error":"#REF!"},{"$f":"'4ДобрВежл'!#REF!","v":{"$error":"#REF!"}},{"$f":"'4ДобрВежл'!#REF!","v":{"$error":"#REF!"}},{"$f":"'4ДобрВежл'!#REF!","v":{"$error":"#REF!"}},{"$error":"#REF!"},{"$f":"'5УдовлУсл'!#REF!","v":{"$error":"#REF!"}},{"$f":"'5УдовлУсл'!#REF!","v":{"$error":"#REF!"}},{"$f":"'5УдовлУсл'!#REF!","v":{"$error":"#REF!"}},{"$error":"#REF!"}]
[39,"г. Барнаул","МБУДО  «Дом художественного творчества детей» (г. Барнаул)",{"$error":"#REF!"},{"$f":"'1ОиДинфоб'!#REF!","v":{"$error":"#REF!"}},{"$f":"'1ОиДинфоб'!#REF!","v":{"$error":"#REF!"}},{"$f":"'1ОиДинфоб'!#REF!","v":{"$error":"#REF!"}},{"$error":"#REF!"},{"$f":"'2КомУслОц'!#REF!","v":{"$error":"#REF!"}},{"$f":"'2КомУслОц'!#REF!","v":{"$error":"#REF!"}},{"$error":"#REF!"},{"$f":"'3УслДостИнвОц'!#REF!","v":{"$error":"#REF!"}},{"$f":"'3УслДостИнвОц'!#REF!","v":{"$error":"#REF!"}},{"$f":"'3УслДостИнвОц'!#REF!","v":{"$error":"#REF!"}},{"$error":"#REF!"},{"$f":"'4ДобрВежл'!#REF!","v":{"$error":"#REF!"}},{"$f":"'4ДобрВежл'!#REF!","v":{"$error":"#REF!"}},{"$f":"'4ДобрВежл'!#REF!","v":{"$error":"#REF!"}},{"$error":"#REF!"},{"$f":"'5УдовлУсл'!#REF!","v":{"$error":"#REF!"}},{"$f":"'5УдовлУсл'!#REF!","v":{"$error":"#REF!"}},{"$f":"'5УдовлУсл'!#REF!","v":{"$error":"#REF!"}},{"$error":"#REF!"}]
[null,"Михайловский район","МКУДО «Михайловская детско-юношеская спортивная школа» ",{"$error":"#REF!"},{"$f":"'1ОиДинфоб'!#REF!","v":{"$error":"#REF!"}},{"$f":"'1ОиДинфоб'!#REF!","v":{"$error":"#REF!"}},{"$f":"'1ОиДинфоб'!#REF!","v":{"$error":"#REF!"}},{"$error":"#REF!"},{"$f":"'2КомУслОц'!#REF!","v":{"$error":"#REF!"}},{"$f":"'2КомУслОц'!#REF!","v":{"$error":"#REF!"}},{"$error":"#REF!"},{"$f":"'3УслДостИнвОц'!#REF!","v":{"$error":"#REF!"}},{"$f":"'3УслДостИнвОц'!#REF!","v":{"$error":"#REF!"}},{"$f":"'3УслДостИнвОц'!#REF!","v":{"$error":"#REF!"}},{"$error":"#REF!"},{"$f":"'4ДобрВежл'!#REF!","v":{"$error":"#REF!"}},{"$f":"'4ДобрВежл'!#REF!","v":{"$error":"#REF!"}},{"$f":"'4ДобрВежл'!#REF!","v":{"$error":"#REF!"}},{"$error":"#REF!"},{"$f":"'5УдовлУсл'!#REF!","v":{"$error":"#REF!"}},{"$f":"'5УдовлУсл'!#REF!","v":{"$error":"#REF!"}},{"$f":"'5УдовлУсл'!#REF!","v":{"$error":"#REF!"}},{"$error":"#REF!"}]
[40,"Краснощековский район","МБУДО  «Краснощековский районный детско-юношеский центр»",{"$error":"#REF!"},{"$f":"'1ОиДинфоб'!#REF!","v":{"$error":"#REF!"}},{"$f":"'1ОиДинфоб'!#REF!","v":{"$error":"#REF!"}},{"$f":"'1ОиДинфоб'!#REF!","v":{"$error":"#REF!"}},{"$error":"#REF!"},{"$f":"'2КомУслОц'!#REF!","v":{"$error":"#REF!"}},{"$f":"'2КомУслОц'!#REF!","v":{"$error":"#REF!"}},{"$error":"#REF!"},{"$f":"'3УслДостИнвОц'!#REF!","v":{"$error":"#REF!"}},{"$f":"'3УслДостИнвОц'!#REF!","v":{"$error":"#REF!"}},{"$f":"'3УслДостИнвОц'!#REF!","v":{"$error":"#REF!"}},{"$error":"#REF!"},{"$f":"'4ДобрВежл'!#REF!","v":{"$error":"#REF!"}},{"$f":"'4ДобрВежл'!#REF!","v":{"$error":"#REF!"}},{"$f":"'4ДобрВежл'!#REF!","v":{"$error":"#REF!"}},{"$error":"#REF!"},{"$f":"'5УдовлУсл'!#REF!","v":{"$error":"#REF!"}},{"$f":"'5УдовлУсл'!#REF!","v":{"$error":"#REF!"}},{"$f":"'5УдовлУсл'!#REF!","v":{"$error":"#REF!"}},{"$error":"#REF!"}]
[41,"г. Рубцовск","МБУДО  «Детско-юношеский центр»  г. Рубцовска",{"$error":"#REF!"},{"$f":"'1ОиДинфоб'!#REF!","v":{"$error":"#REF!"}},{"$f":"'1ОиДинфоб'!#REF!","v":{"$error":"#REF!"}},{"$f":"'1ОиДинфоб'!#REF!","v":{"$error":"#REF!"}},{"$error":"#REF!"},{"$f":"'2КомУслОц'!#REF!","v":{"$error":"#REF!"}},{"$f":"'2КомУслОц'!#REF!","v":{"$error":"#REF!"}},{"$error":"#REF!"},{"$f":"'3УслДостИнвОц'!#REF!","v":{"$error":"#REF!"}},{"$f":"'3УслДостИнвОц'!#REF!","v":{"$error":"#REF!"}},{"$f":"'3УслДостИнвОц'!#REF!","v":{"$error":"#REF!"}},{"$error":"#REF!"},{"$f":"'4ДобрВежл'!#REF!","v":{"$error":"#REF!"}},{"$f":"'4ДобрВежл'!#REF!","v":{"$error":"#REF!"}},{"$f":"'4ДобрВежл'!#REF!","v":{"$error":"#REF!"}},{"$error":"#REF!"},{"$f":"'5УдовлУсл'!#REF!","v":{"$error":"#REF!"}},{"$f":"'5УдовлУсл'!#REF!","v":{"$error":"#REF!"}},{"$f":"'5УдовлУсл'!#REF!","v":{"$error":"#REF!"}},{"$error":"#REF!"}]
[null,"Третьяковский район","МБОУДО «Центр развития творчества детей и юношества» Третьяковского района",{"$error":"#REF!"},{"$f":"'1ОиДинфоб'!#REF!","v":{"$error":"#REF!"}},{"$f":"'1ОиДинфоб'!#REF!","v":{"$error":"#REF!"}},{"$f":"'1ОиДинфоб'!#REF!","v":{"$error":"#REF!"}},{"$error":"#REF!"},{"$f":"'2КомУслОц'!#REF!","v":{"$error":"#REF!"}},{"$f":"'2КомУслОц'!#REF!","v":{"$error":"#REF!"}},{"$error":"#REF!"},{"$f":"'3УслДостИнвОц'!#REF!","v":{"$error":"#REF!"}},{"$f":"'3УслДостИнвОц'!#REF!","v":{"$error":"#REF!"}},{"$f":"'3УслДостИнвОц'!#REF!","v":{"$error":"#REF!"}},{"$error":"#REF!"},{"$f":"'4ДобрВежл'!#REF!","v":{"$error":"#REF!"}},{"$f":"'4ДобрВежл'!#REF!","v":{"$error":"#REF!"}},{"$f":"'4ДобрВежл'!#REF!","v":{"$error":"#REF!"}},{"$error":"#REF!"},{"$f":"'5УдовлУсл'!#REF!","v":{"$error":"#REF!"}},{"$f":"'5УдовлУсл'!#REF!","v":{"$error":"#REF!"}},{"$f":"'5УдовлУсл'!#REF!","v":{"$error":"#REF!"}},{"$error":"#REF!"}]
[42,"г. Барнаул","МБУДО  «Барнаульский городской детско-юношеский центр»",{"$error":"#REF!"},{"$f":"'1ОиДинфоб'!#REF!","v":{"$error":"#REF!"}},{"$f":"'1ОиДинфоб'!#REF!","v":{"$error":"#REF!"}},{"$f":"'1ОиДинфоб'!#REF!","v":{"$error":"#REF!"}},{"$error":"#REF!"},{"$f":"'2КомУслОц'!#REF!","v":{"$error":"#REF!"}},49.5,{"$error":"#REF!"},{"$f":"'3УслДостИнвОц'!#REF!","v":{"$error":"#REF!"}},{"$f":"'3УслДостИнвОц'!#REF!","v":{"$error":"#REF!"}},{"$f":"'3УслДостИнвОц'!#REF!","v":{"$error":"#REF!"}},{"$error":"#REF!"},{"$f":"'4ДобрВежл'!#REF!","v":{"$error":"#REF!"}},{"$f":"'4ДобрВежл'!#REF!","v":{"$error":"#REF!"}},{"$f":"'4ДобрВежл'!#REF!","v":{"$error":"#REF!"}},{"$error":"#REF!"},{"$f":"'5УдовлУсл'!#REF!","v":{"$error":"#REF!"}},{"$f":"'5УдовлУсл'!#REF!","v":{"$error":"#REF!"}},{"$f":"'5УдовлУсл'!#REF!","v":{"$error":"#REF!"}},{"$error":"#REF!"}]
[43,"Каменский район","МБУДО  «Каменский многопрофильный образовательный центр»",{"$error":"#REF!"},{"$f":"'1ОиДинфоб'!#REF!","v":{"$error":"#REF!"}},{"$f":"'1ОиДинфоб'!#REF!","v":{"$error":"#REF!"}},{"$f":"'1ОиДинфоб'!#REF!","v":{"$error":"#REF!"}},{"$error":"#REF!"},{"$f":"'2КомУслОц'!#REF!","v":{"$error":"#REF!"}},{"$f":"'2КомУслОц'!#REF!","v":{"$error":"#REF!"}},{"$error":"#REF!"},{"$f":"'3УслДостИнвОц'!#REF!","v":{"$error":"#REF!"}},{"$f":"'3УслДостИнвОц'!#REF!","v":{"$error":"#REF!"}},{"$f":"'3УслДостИнвОц'!#REF!","v":{"$error":"#REF!"}},{"$error":"#REF!"},{"$f":"'4ДобрВежл'!#REF!","v":{"$error":"#REF!"}},{"$f":"'4ДобрВежл'!#REF!","v":{"$error":"#REF!"}},{"$f":"'4ДобрВежл'!#REF!","v":{"$error":"#REF!"}},{"$error":"#REF!"},{"$f":"'5УдовлУсл'!#REF!","v":{"$error":"#REF!"}},{"$f":"'5УдовлУсл'!#REF!","v":{"$error":"#REF!"}},{"$f":"'5УдовлУсл'!#REF!","v":{"$error":"#REF!"}},{"$error":"#REF!"}]
[null,"Павловский район","МБУДО  «Павловский детско-юношеский центр»",{"$f":"AVERAGE(H61,K61,O61,S61,W61)","v":{"$error":"#REF!"}},{"$f":"'1ОиДинфоб'!#REF!","v":{"$error":"#REF!"}},{"$f":"'1ОиДинфоб'!#REF!","v":{"$error":"#REF!"}},{"$f":"'1ОиДинфоб'!#REF!","v":{"$error":"#REF!"}},{"$f":"E61+F61+G61","v":{"$error":"#REF!"}},{"$f":"'2КомУслОц'!#REF!","v":{"$error":"#REF!"}},{"$f":"'2КомУслОц'!#REF!","v":{"$error":"#REF!"}},{"$f":"I61+J61","v":{"$error":"#REF!"}},{"$f":"'3УслДостИнвОц'!#REF!","v":{"$error":"#REF!"}},{"$f":"'3УслДостИнвОц'!#REF!","v":{"$error":"#REF!"}},{"$f":"'3УслДостИнвОц'!#REF!","v":{"$error":"#REF!"}},{"$f":"L61+M61+N61","v":{"$error":"#REF!"}},{"$f":"'4ДобрВежл'!#REF!","v":{"$error":"#REF!"}},{"$f":"'4ДобрВежл'!#REF!","v":{"$error":"#REF!"}},{"$f":"'4ДобрВежл'!#REF!","v":{"$error":"#REF!"}},{"$f":"SUM(P61:R61)","v":{"$error":"#REF!"}},{"$f":"'5УдовлУсл'!#REF!","v":{"$error":"#REF!"}},{"$f":"'5УдовлУсл'!#REF!","v":{"$error":"#REF!"}},{"$f":"'5УдовлУсл'!#REF!","v":{"$error":"#REF!"}},{"$f":"SUM(T61:V61)","v":{"$error":"#REF!"}}]
[44,"Целинный район","МБУДО «Центр творчества и отдыха» Целинного района",{"$f":"AVERAGE(H62,K62,O62,S62,W62)","v":{"$error":"#REF!"}},{"$f":"'1ОиДинфоб'!#REF!","v":{"$error":"#REF!"}},{"$f":"'1ОиДинфоб'!#REF!","v":{"$error":"#REF!"}},{"$f":"'1ОиДинфоб'!#REF!","v":{"$error":"#REF!"}},{"$f":"E62+F62+G62","v":{"$error":"#REF!"}},{"$f":"'2КомУслОц'!#REF!","v":{"$error":"#REF!"}},{"$f":"'2КомУслОц'!#REF!","v":{"$error":"#REF!"}},{"$f":"I62+J62","v":{"$error":"#REF!"}},{"$f":"'3УслДостИнвОц'!#REF!","v":{"$error":"#REF!"}},{"$f":"'3УслДостИнвОц'!#REF!","v":{"$error":"#REF!"}},{"$f":"'3УслДостИнвОц'!#REF!","v":{"$error":"#REF!"}},{"$f":"L62+M62+N62","v":{"$error":"#REF!"}},{"$f":"'4ДобрВежл'!#REF!","v":{"$error":"#REF!"}},{"$f":"'4ДобрВежл'!#REF!","v":{"$error":"#REF!"}},{"$f":"'4ДобрВежл'!#REF!","v":{"$error":"#REF!"}},{"$f":"SUM(P62:R62)","v":{"$error":"#REF!"}},{"$f":"'5УдовлУсл'!#REF!","v":{"$error":"#REF!"}},{"$f":"'5УдовлУсл'!#REF!","v":{"$error":"#REF!"}},{"$f":"'5УдовлУсл'!#REF!","v":{"$error":"#REF!"}},{"$f":"SUM(T62:V62)","v":{"$error":"#REF!"}}]
[45,"г. Барнаул","МБУДО  «Детский оздоровительно-образовательный (профильный) центр Гармония»",{"$error":"#REF!"},{"$f":"'1ОиДинфоб'!#REF!","v":{"$error":"#REF!"}},{"$f":"'1ОиДинфоб'!#REF!","v":{"$error":"#REF!"}},{"$f":"'1ОиДинфоб'!#REF!","v":{"$error":"#REF!"}},{"$error":"#REF!"},{"$f":"'2КомУслОц'!#REF!","v":{"$error":"#REF!"}},{"$f":"'2КомУслОц'!#REF!","v":{"$error":"#REF!"}},{"$error":"#REF!"},{"$f":"'3УслДостИнвОц'!#REF!","v":{"$error":"#REF!"}},{"$f":"'3УслДостИнвОц'!#REF!","v":{"$error":"#REF!"}},{"$f":"'3УслДостИнвОц'!#REF!","v":{"$error":"#REF!"}},{"$error":"#REF!"},{"$f":"'4ДобрВежл'!#REF!","v":{"$error":"#REF!"}},{"$f":"'4ДобрВежл'!#REF!","v":{"$error":"#REF!"}},{"$f":"'4ДобрВежл'!#REF!","v":{"$error":"#REF!"}},{"$error":"#REF!"},{"$f":"'5УдовлУсл'!#REF!","v":{"$error":"#REF!"}},{"$f":"'5УдовлУсл'!#REF!","v":{"$error":"#REF!"}},{"$f":"'5УдовлУсл'!#REF!","v":{"$error":"#REF!"}},{"$error":"#REF!"}]
[null,"Панкрушихинский район","МБОУДО «Панкрушихинский районный Центр творчества»",{"$error":"#REF!"},{"$f":"'1ОиДинфоб'!#REF!","v":{"$error":"#REF!"}},{"$f":"'1ОиДинфоб'!#REF!","v":{"$error":"#REF!"}},{"$f":"'1ОиДинфоб'!#REF!","v":{"$error":"#REF!"}},{"$error":"#REF!"},{"$f":"'2КомУслОц'!#REF!","v":{"$error":"#REF!"}},{"$f":"'2КомУслОц'!#REF!","v":{"$error":"#REF!"}},{"$error":"#REF!"},{"$f":"'3УслДостИнвОц'!#REF!","v":{"$error":"#REF!"}},{"$f":"'3УслДостИнвОц'!#REF!","v":{"$error":"#REF!"}},{"$f":"'3УслДостИнвОц'!#REF!","v":{"$error":"#REF!"}},{"$error":"#REF!"},{"$f":"'4ДобрВежл'!#REF!","v":{"$error":"#REF!"}},{"$f":"'4ДобрВежл'!#REF!","v":{"$error":"#REF!"}},{"$f":"'4ДобрВежл'!#REF!","v":{"$error":"#REF!"}},{"$error":"#REF!"},{"$f":"'5УдовлУсл'!#REF!","v":{"$error":"#REF!"}},{"$f":"'5УдовлУсл'!#REF!","v":{"$error":"#REF!"}},{"$f":"'5УдовлУсл'!#REF!","v":{"$error":"#REF!"}},{"$error":"#REF!"}]
[46,"г. Барнаул","МБУДО «Барнаульская городская станция юных техников»",{"$error":"#REF!"},{"$f":"'1ОиДинфоб'!#REF!","v":{"$error":"#REF!"}},{"$f":"'1ОиДинфоб'!#REF!","v":{"$error":"#REF!"}},{"$f":"'1ОиДинфоб'!#REF!","v":{"$error":"#REF!"}},{"$error":"#REF!"},{"$f":"'2КомУслОц'!#REF!","v":{"$error":"#REF!"}},{"$f":"'2КомУслОц'!#REF!","v":{"$error":"#REF!"}},{"$error":"#REF!"},{"$f":"'3УслДостИнвОц'!#REF!","v":{"$error":"#REF!"}},{"$f":"'3УслДостИнвОц'!#REF!","v":{"$error":"#REF!"}},{"$f":"'3УслДостИнвОц'!#REF!","v":{"$error":"#REF!"}},{"$error":"#REF!"},{"$f":"'4ДобрВежл'!#REF!","v":{"$error":"#REF!"}},{"$f":"'4ДобрВежл'!#REF!","v":{"$error":"#REF!"}},{"$f":"'4ДобрВежл'!#REF!","v":{"$error":"#REF!"}},{"$error":"#REF!"},{"$f":"'5УдовлУсл'!#REF!","v":{"$error":"#REF!"}},{"$f":"'5УдовлУсл'!#REF!","v":{"$error":"#REF!"}},{"$f":"'5УдовлУсл'!#REF!","v":{"$error":"#REF!"}},{"$error":"#REF!"}]
[47,"Быстроистокский район","МБУДО «Быстроистокская детско-юношеская спортивная школа»",{"$error":"#REF!"},{"$f":"'1ОиДинфоб'!#REF!","v":{"$error":"#REF!"}},{"$f":"'1ОиДинфоб'!#REF!","v":{"$error":"#REF!"}},{"$f":"'1ОиДинфоб'!#REF!","v":{"$error":"#REF!"}},{"$error":"#REF!"},{"$f":"'2КомУслОц'!#REF!","v":{"$error":"#REF!"}},{"$f":"'2КомУслОц'!#REF!","v":{"$error":"#REF!"}},{"$error":"#REF!"},{"$f":"'3УслДостИнвОц'!#REF!","v":{"$error":"#REF!"}},{"$f":"'3УслДостИнвОц'!#REF!","v":{"$error":"#REF!"}},{"$f":"'3УслДостИнвОц'!#REF!","v":{"$error":"#REF!"}},{"$error":"#REF!"},{"$f":"'4ДобрВежл'!#REF!","v":{"$error":"#REF!"}},{"$f":"'4ДобрВежл'!#REF!","v":{"$error":"#REF!"}},{"$f":"'4ДобрВежл'!#REF!","v":{"$error":"#REF!"}},{"$error":"#REF!"},{"$f":"'5УдовлУсл'!#REF!","v":{"$error":"#REF!"}},{"$f":"'5УдовлУсл'!#REF!","v":{"$error":"#REF!"}},{"$f":"'5УдовлУсл'!#REF!","v":{"$error":"#REF!"}},{"$error":"#REF!"}]
[48,"г. Барнаул","МБУДО  «Детско-юношеский центр» Индустриального района г. Барнаула",{"$error":"#REF!"},{"$f":"'1ОиДинфоб'!#REF!","v":{"$error":"#REF!"}},{"$f":"'1ОиДинфоб'!#REF!","v":{"$error":"#REF!"}},{"$f":"'1ОиДинфоб'!#REF!","v":{"$error":"#REF!"}},{"$error":"#REF!"},{"$f":"'2КомУслОц'!#REF!","v":{"$error":"#REF!"}},{"$f":"'2КомУслОц'!#REF!","v":{"$error":"#REF!"}},{"$error":"#REF!"},{"$f":"'3УслДостИнвОц'!#REF!","v":{"$error":"#REF!"}},{"$f":"'3УслДостИнвОц'!#REF!","v":{"$error":"#REF!"}},{"$f":"'3УслДостИнвОц'!#REF!","v":{"$error":"#REF!"}},{"$error":"#REF!"},{"$f":"'4ДобрВежл'!#REF!","v":{"$error":"#REF!"}},{"$f":"'4ДобрВежл'!#REF!","v":{"$error":"#REF!"}},{"$f":"'4ДобрВежл'!#REF!","v":{"$error":"#REF!"}},{"$error":"#REF!"},{"$f":"'5УдовлУсл'!#REF!","v":{"$error":"#REF!"}},{"$f":"'5УдовлУсл'!#REF!","v":{"$error":"#REF!"}},{"$f":"'5УдовлУсл'!#REF!","v":{"$error":"#REF!"}},{"$error":"#REF!"}]
[null,"Курьинский район","МБУДО «Дом детского творчества» Курьинского района",{"$error":"#REF!"},{"$f":"'1ОиДинфоб'!#REF!","v":{"$error":"#REF!"}},{"$f":"'1ОиДинфоб'!#REF!","v":{"$error":"#REF!"}},{"$f":"'1ОиДинфоб'!#REF!","v":{"$error":"#REF!"}},{"$error":"#REF!"},{"$f":"'2КомУслОц'!#REF!","v":{"$error":"#REF!"}},{"$f":"'2КомУслОц'!#REF!","v":{"$error":"#REF!"}},{"$error":"#REF!"},{"$f":"'3УслДостИнвОц'!#REF!","v":{"$error":"#REF!"}},{"$f":"'3УслДостИнвОц'!#REF!","v":{"$error":"#REF!"}},{"$f":"'3УслДостИнвОц'!#REF!","v":{"$error":"#REF!"}},{"$error":"#REF!"},{"$f":"'4ДобрВежл'!#REF!","v":{"$error":"#REF!"}},{"$f":"'4ДобрВежл'!#REF!","v":{"$error":"#REF!"}},{"$f":"'4ДобрВежл'!#REF!","v":{"$error":"#REF!"}},{"$error":"#REF!"},{"$f":"'5УдовлУсл'!#REF!","v":{"$error":"#REF!"}},{"$f":"'5УдовлУсл'!#REF!","v":{"$error":"#REF!"}},{"$f":"'5УдовлУсл'!#REF!","v":{"$error":"#REF!"}},{"$error":"#REF!"}]
[null,"Солтонский район","МКОУДО «Детско-юношеский центр» Солтонского района",{"$error":"#REF!"},{"$f":"'1ОиДинфоб'!#REF!","v":{"$error":"#REF!"}},{"$f":"'1ОиДинфоб'!#REF!","v":{"$error":"#REF!"}},{"$f":"'1ОиДинфоб'!#REF!","v":{"$error":"#REF!"}},{"$error":"#REF!"},{"$f":"'2КомУслОц'!#REF!","v":{"$error":"#REF!"}},{"$f":"'2КомУслОц'!#REF!","v":{"$error":"#REF!"}},{"$error":"#REF!"},{"$f":"'3УслДостИнвОц'!#REF!","v":{"$error":"#REF!"}},{"$f":"'3УслДостИнвОц'!#REF!","v":{"$error":"#REF!"}},{"$f":"'3УслДостИнвОц'!#REF!","v":{"$error":"#REF!"}},{"$error":"#REF!"},{"$f":"'4ДобрВежл'!#REF!","v":{"$error":"#REF!"}},{"$f":"'4ДобрВежл'!#REF!","v":{"$error":"#REF!"}},{"$f":"'4ДобрВежл'!#REF!","v":{"$error":"#REF!"}},{"$error":"#REF!"},{"$f":"'5УдовлУсл'!#REF!","v":{"$error":"#REF!"}},{"$f":"'5УдовлУсл'!#REF!","v":{"$error":"#REF!"}},{"$f":"'5УдовлУсл'!#REF!","v":{"$error":"#REF!"}},{"$error":"#REF!"}]
[49,"г. Барнаул","МБУДО  Центр внешкольной работы «Военно-спортивный клуб «Борец»",{"$error":"#REF!"},{"$f":"'1ОиДинфоб'!#REF!","v":{"$error":"#REF!"}},{"$f":"'1ОиДинфоб'!#REF!","v":{"$error":"#REF!"}},{"$f":"'1ОиДинфоб'!#REF!","v":{"$error":"#REF!"}},{"$error":"#REF!"},{"$f":"'2КомУслОц'!#REF!","v":{"$error":"#REF!"}},{"$f":"'2КомУслОц'!#REF!","v":{"$error":"#REF!"}},{"$error":"#REF!"},{"$f":"'3УслДостИнвОц'!#REF!","v":{"$error":"#REF!"}},{"$f":"'3УслДостИнвОц'!#REF!","v":{"$error":"#REF!"}},{"$f":"'3УслДостИнвОц'!#REF!","v":{"$error":"#REF!"}},{"$error":"#REF!"},{"$f":"'4ДобрВежл'!#REF!","v":{"$error":"#REF!"}},{"$f":"'4ДобрВежл'!#REF!","v":{"$error":"#REF!"}},{"$f":"'4ДобрВежл'!#REF!","v":{"$error":"#REF!"}},{"$error":"#REF!"},{"$f":"'5УдовлУсл'!#REF!","v":{"$error":"#REF!"}},{"$f":"'5УдовлУсл'!#REF!","v":{"$error":"#REF!"}},{"$f":"'5УдовлУсл'!#REF!","v":{"$error":"#REF!"}},{"$error":"#REF!"}]
[null,"Усть-Калманский район","МБУДО  «Центр детского творчества» Усть-Калманского района",{"$error":"#REF!"},{"$f":"'1ОиДинфоб'!#REF!","v":{"$error":"#REF!"}},{"$f":"'1ОиДинфоб'!#REF!","v":{"$error":"#REF!"}},{"$f":"'1ОиДинфоб'!#REF!","v":{"$error":"#REF!"}},{"$error":"#REF!"},{"$f":"'2КомУслОц'!#REF!","v":{"$error":"#REF!"}},{"$f":"'2КомУслОц'!#REF!","v":{"$error":"#REF!"}},{"$error":"#REF!"},{"$f":"'3УслДостИнвОц'!#REF!","v":{"$error":"#REF!"}},{"$f":"'3УслДостИнвОц'!#REF!","v":{"$error":"#REF!"}},{"$f":"'3УслДостИнвОц'!#REF!","v":{"$error":"#REF!"}},{"$error":"#REF!"},{"$f":"'4ДобрВежл'!#REF!","v":{"$error":"#REF!"}},{"$f":"'4ДобрВежл'!#REF!","v":{"$error":"#REF!"}},{"$f":"'4ДобрВежл'!#REF!","v":{"$error":"#REF!"}},100,{"$f":"'5УдовлУсл'!#REF!","v":{"$error":"#REF!"}},{"$f":"'5УдовлУсл'!#REF!","v":{"$error":"#REF!"}},{"$f":"'5УдовлУсл'!#REF!","v":{"$error":"#REF!"}},{"$error":"#REF!"}]
[50,"г. Рубцовск","МБУДО  «Центр развития творчества» г. Рубцовска",{"$error":"#REF!"},{"$f":"'1ОиДинфоб'!#REF!","v":{"$error":"#REF!"}},{"$f":"'1ОиДинфоб'!#REF!","v":{"$error":"#REF!"}},{"$f":"'1ОиДинфоб'!#REF!","v":{"$error":"#REF!"}},{"$error":"#REF!"},{"$f":"'2КомУслОц'!#REF!","v":{"$error":"#REF!"}},{"$f":"'2КомУслОц'!#REF!","v":{"$error":"#REF!"}},{"$error":"#REF!"},{"$f":"'3УслДостИнвОц'!#REF!","v":{"$error":"#REF!"}},{"$f":"'3УслДостИнвОц'!#REF!","v":{"$error":"#REF!"}},{"$f":"'3УслДостИнвОц'!#REF!","v":{"$error":"#REF!"}},{"$error":"#REF!"},{"$f":"'4ДобрВежл'!#REF!","v":{"$error":"#REF!"}},{"$f":"'4ДобрВежл'!#REF!","v":{"$error":"#REF!"}},{"$f":"'4ДобрВежл'!#REF!","v":{"$error":"#REF!"}},{"$f":"SUM(P72:R72)","v":{"$error":"#REF!"}},{"$f":"'5УдовлУсл'!#REF!","v":{"$error":"#REF!"}},{"$f":"'5УдовлУсл'!#REF!","v":{"$error":"#REF!"}},{"$f":"'5УдовлУсл'!#REF!","v":{"$error":"#REF!"}},{"$error":"#REF!"}]
[51,"Первомайский район","МБУДО  «Центр творчества детей и молодежи «Созвездие» Первомайского района",{"$error":"#REF!"},{"$f":"'1ОиДинфоб'!#REF!","v":{"$error":"#REF!"}},{"$f":"'1ОиДинфоб'!#REF!","v":{"$error":"#REF!"}},{"$f":"'1ОиДинфоб'!#REF!","v":{"$error":"#REF!"}},{"$error":"#REF!"},{"$f":"'2КомУслОц'!#REF!","v":{"$error":"#REF!"}},{"$f":"'2КомУслОц'!#REF!","v":{"$error":"#REF!"}},{"$error":"#REF!"},{"$f":"'3УслДостИнвОц'!#REF!","v":{"$error":"#REF!"}},{"$f":"'3УслДостИнвОц'!#REF!","v":{"$error":"#REF!"}},{"$f":"'3УслДостИнвОц'!#REF!","v":{"$error":"#REF!"}},{"$error":"#REF!"},{"$f":"'4ДобрВежл'!#REF!","v":{"$error":"#REF!"}},{"$f":"'4ДобрВежл'!#REF!","v":{"$error":"#REF!"}},{"$f":"'4ДобрВежл'!#REF!","v":{"$error":"#REF!"}},{"$f":"SUM(P73:R73)","v":{"$error":"#REF!"}},{"$f":"'5УдовлУсл'!#REF!","v":{"$error":"#REF!"}},{"$f":"'5УдовлУсл'!#REF!","v":{"$error":"#REF!"}},{"$f":"'5УдовлУсл'!#REF!","v":{"$error":"#REF!"}},{"$error":"#REF!"}]
[52,"г. Рубцовск","МБУДО  «Центр внешкольной работы «Малая Академия» г. Рубцовска",{"$f":"AVERAGE(H74,K74,O74,S74,W74)","v":{"$error":"#REF!"}},{"$f":"'1ОиДинфоб'!#REF!","v":{"$error":"#REF!"}},{"$f":"'1ОиДинфоб'!#REF!","v":{"$error":"#REF!"}},{"$f":"'1ОиДинфоб'!#REF!","v":{"$error":"#REF!"}},{"$f":"E74+F74+G74","v":{"$error":"#REF!"}},{"$f":"'2КомУслОц'!#REF!","v":{"$error":"#REF!"}},{"$f":"'2КомУслОц'!#REF!","v":{"$error":"#REF!"}},{"$f":"I74+J74","v":{"$error":"#REF!"}},{"$f":"'3УслДостИнвОц'!#REF!","v":{"$error":"#REF!"}},{"$f":"'3УслДостИнвОц'!#REF!","v":{"$error":"#REF!"}},{"$f":"'3УслДостИнвОц'!#REF!","v":{"$error":"#REF!"}},{"$f":"L74+M74+N74","v":{"$error":"#REF!"}},{"$f":"'4ДобрВежл'!#REF!","v":{"$error":"#REF!"}},{"$f":"'4ДобрВежл'!#REF!","v":{"$error":"#REF!"}},{"$f":"'4ДобрВежл'!#REF!","v":{"$error":"#REF!"}},{"$f":"SUM(P74:R74)","v":{"$error":"#REF!"}},{"$f":"'5УдовлУсл'!#REF!","v":{"$error":"#REF!"}},{"$f":"'5УдовлУсл'!#REF!","v":{"$error":"#REF!"}},{"$f":"'5УдовлУсл'!#REF!","v":{"$error":"#REF!"}},{"$f":"SUM(T74:V74)","v":{"$error":"#REF!"}}]
[53,"г. Барнаул","МБУДО  «Барнаульская городская станция юных натуралистов»",{"$f":"AVERAGE(H75,K75,O75,S75,W75)","v":{"$error":"#REF!"}},{"$f":"'1ОиДинфоб'!#REF!","v":{"$error":"#REF!"}},{"$f":"'1ОиДинфоб'!#REF!","v":{"$error":"#REF!"}},{"$f":"'1ОиДинфоб'!#REF!","v":{"$error":"#REF!"}},{"$f":"E75+F75+G75","v":{"$error":"#REF!"}},{"$f":"'2КомУслОц'!#REF!","v":{"$error":"#REF!"}},{"$f":"'2КомУслОц'!#REF!","v":{"$error":"#REF!"}},{"$f":"I75+J75","v":{"$error":"#REF!"}},{"$f":"'3УслДостИнвОц'!#REF!","v":{"$error":"#REF!"}},{"$f":"'3УслДостИнвОц'!#REF!","v":{"$error":"#REF!"}},{"$f":"'3УслДостИнвОц'!#REF!","v":{"$error":"#REF!"}},{"$f":"L75+M75+N75","v":{"$error":"#REF!"}},{"$f":"'4ДобрВежл'!#REF!","v":{"$error":"#REF!"}},{"$f":"'4ДобрВежл'!#REF!","v":{"$error":"#REF!"}},{"$f":"'4ДобрВежл'!#REF!","v":{"$error":"#REF!"}},{"$f":"SUM(P75:R75)","v":{"$error":"#REF!"}},{"$f":"'5УдовлУсл'!#REF!","v":{"$error":"#REF!"}},{"$f":"'5УдовлУсл'!#REF!","v":{"$error":"#REF!"}},{"$f":"'5УдовлУсл'!#REF!","v":{"$error":"#REF!"}},{"$f":"SUM(T75:V75)","v":{"$error":"#REF!"}}]
[null,"Бурлинский район","МБУДО  «Бурлинский Центр дополнительного образования»",{"$f":"AVERAGE(H76,K76,O76,S76,W76)","v":{"$error":"#REF!"}},{"$f":"'1ОиДинфоб'!#REF!","v":{"$error":"#REF!"}},{"$f":"'1ОиДинфоб'!#REF!","v":{"$error":"#REF!"}},{"$f":"'1ОиДинфоб'!#REF!","v":{"$error":"#REF!"}},{"$f":"E76+F76+G76","v":{"$error":"#REF!"}},{"$f":"'2КомУслОц'!#REF!","v":{"$error":"#REF!"}},{"$f":"'2КомУслОц'!#REF!","v":{"$error":"#REF!"}},{"$f":"I76+J76","v":{"$error":"#REF!"}},{"$f":"'3УслДостИнвОц'!#REF!","v":{"$error":"#REF!"}},{"$f":"'3УслДостИнвОц'!#REF!","v":{"$error":"#REF!"}},{"$f":"'3УслДостИнвОц'!#REF!","v":{"$error":"#REF!"}},{"$f":"L76+M76+N76","v":{"$error":"#REF!"}},{"$f":"'4ДобрВежл'!#REF!","v":{"$error":"#REF!"}},{"$f":"'4ДобрВежл'!#REF!","v":{"$error":"#REF!"}},{"$f":"'4ДобрВежл'!#REF!","v":{"$error":"#REF!"}},{"$f":"SUM(P76:R76)","v":{"$error":"#REF!"}},{"$f":"'5УдовлУсл'!#REF!","v":{"$error":"#REF!"}},{"$f":"'5УдовлУсл'!#REF!","v":{"$error":"#REF!"}},{"$f":"'5УдовлУсл'!#REF!","v":{"$error":"#REF!"}},{"$f":"SUM(T76:V76)","v":{"$error":"#REF!"}}]
[54,"Хабарский район","МБУДО «Центр детского творчества»  Хабарского района",{"$error":"#REF!"},{"$f":"'1ОиДинфоб'!#REF!","v":{"$error":"#REF!"}},{"$f":"'1ОиДинфоб'!#REF!","v":{"$error":"#REF!"}},{"$f":"'1ОиДинфоб'!#REF!","v":{"$error":"#REF!"}},{"$error":"#REF!"},{"$f":"'2КомУслОц'!#REF!","v":{"$error":"#REF!"}},{"$f":"'2КомУслОц'!#REF!","v":{"$error":"#REF!"}},{"$error":"#REF!"},{"$f":"'3УслДостИнвОц'!#REF!","v":{"$error":"#REF!"}},{"$f":"'3УслДостИнвОц'!#REF!","v":{"$error":"#REF!"}},{"$f":"'3УслДостИнвОц'!#REF!","v":{"$error":"#REF!"}},{"$error":"#REF!"},{"$f":"'4ДобрВежл'!#REF!","v":{"$error":"#REF!"}},{"$f":"'4ДобрВежл'!#REF!","v":{"$error":"#REF!"}},{"$f":"'4ДобрВежл'!#REF!","v":{"$error":"#REF!"}},{"$error":"#REF!"},{"$f":"'5УдовлУсл'!#REF!","v":{"$error":"#REF!"}},{"$f":"'5УдовлУсл'!#REF!","v":{"$error":"#REF!"}},{"$f":"'5УдовлУсл'!#REF!","v":{"$error":"#REF!"}},{"$error":"#REF!"}]
[55,"г. Барнаул","МБУДО  «Центр детского творчества» Октябрьского района г. Барнаула",{"$error":"#REF!"},{"$f":"'1ОиДинфоб'!#REF!","v":{"$error":"#REF!"}},{"$f":"'1ОиДинфоб'!#REF!","v":{"$error":"#REF!"}},{"$f":"'1ОиДинфоб'!#REF!","v":{"$error":"#REF!"}},{"$error":"#REF!"},{"$f":"'2КомУслОц'!#REF!","v":{"$error":"#REF!"}},{"$f":"'2КомУслОц'!#REF!","v":{"$error":"#REF!"}},{"$error":"#REF!"},{"$f":"'3УслДостИнвОц'!#REF!","v":{"$error":"#REF!"}},{"$f":"'3УслДостИнвОц'!#REF!","v":{"$error":"#REF!"}},{"$f":"'3УслДостИнвОц'!#REF!","v":{"$error":"#REF!"}},{"$error":"#REF!"},{"$f":"'4ДобрВежл'!#REF!","v":{"$error":"#REF!"}},{"$f":"'4ДобрВежл'!#REF!","v":{"$error":"#REF!"}},{"$f":"'4ДобрВежл'!#REF!","v":{"$error":"#REF!"}},{"$error":"#REF!"},{"$f":"'5УдовлУсл'!#REF!","v":{"$error":"#REF!"}},{"$f":"'5УдовлУсл'!#REF!","v":{"$error":"#REF!"}},{"$f":"'5УдовлУсл'!#REF!","v":{"$error":"#REF!"}},{"$error":"#REF!"}]
[56,"Тогульский район","МКУДО «Центр творчества, спорта и отдыха» Тогульского района",{"$f":"AVERAGE(H79,K79,O79,S79,W79)","v":{"$error":"#REF!"}},{"$f":"'1ОиДинфоб'!#REF!","v":{"$error":"#REF!"}},{"$f":"'1ОиДинфоб'!#REF!","v":{"$error":"#REF!"}},{"$f":"'1ОиДинфоб'!#REF!","v":{"$error":"#REF!"}},{"$f":"E79+F79+G79","v":{"$error":"#REF!"}},{"$f":"'2КомУслОц'!#REF!","v":{"$error":"#REF!"}},{"$f":"'2КомУслОц'!#REF!","v":{"$error":"#REF!"}},{"$f":"I79+J79","v":{"$error":"#REF!"}},{"$f":"'3УслДостИнвОц'!#REF!","v":{"$error":"#REF!"}},{"$f":"'3УслДостИнвОц'!#REF!","v":{"$error":"#REF!"}},{"$f":"'3УслДостИнвОц'!#REF!","v":{"$error":"#REF!"}},{"$f":"L79+M79+N79","v":{"$error":"#REF!"}},{"$f":"'4ДобрВежл'!#REF!","v":{"$error":"#REF!"}},{"$f":"'4ДобрВежл'!#REF!","v":{"$error":"#REF!"}},{"$f":"'4ДобрВежл'!#REF!","v":{"$error":"#REF!"}},{"$f":"SUM(P79:R79)","v":{"$error":"#REF!"}},{"$f":"'5УдовлУсл'!#REF!","v":{"$error":"#REF!"}},{"$f":"'5УдовлУсл'!#REF!","v":{"$error":"#REF!"}},{"$f":"'5УдовлУсл'!#REF!","v":{"$error":"#REF!"}},{"$f":"SUM(T79:V79)","v":{"$error":"#REF!"}}]
[57,"г. Барнаул","МБУДО «Центр детского (юношеского) технического творчества» Ленинского района г. Барнаула",{"$error":"#REF!"},{"$f":"'1ОиДинфоб'!#REF!","v":{"$error":"#REF!"}},{"$f":"'1ОиДинфоб'!#REF!","v":{"$error":"#REF!"}},{"$f":"'1ОиДинфоб'!#REF!","v":{"$error":"#REF!"}},{"$error":"#REF!"},{"$f":"'2КомУслОц'!#REF!","v":{"$error":"#REF!"}},{"$f":"'2КомУслОц'!#REF!","v":{"$error":"#REF!"}},{"$error":"#REF!"},{"$f":"'3УслДостИнвОц'!#REF!","v":{"$error":"#REF!"}},{"$f":"'3УслДостИнвОц'!#REF!","v":{"$error":"#REF!"}},{"$f":"'3УслДостИнвОц'!#REF!","v":{"$error":"#REF!"}},{"$error":"#REF!"},{"$f":"'4ДобрВежл'!#REF!","v":{"$error":"#REF!"}},{"$f":"'4ДобрВежл'!#REF!","v":{"$error":"#REF!"}},{"$f":"'4ДобрВежл'!#REF!","v":{"$error":"#REF!"}},{"$error":"#REF!"},{"$f":"'5УдовлУсл'!#REF!","v":{"$error":"#REF!"}},{"$f":"'5УдовлУсл'!#REF!","v":{"$error":"#REF!"}},{"$f":"'5УдовлУсл'!#REF!","v":{"$error":"#REF!"}},{"$error":"#REF!"}]
[58,"ЗАТО Сибирский","МБУДО  «Детско-юношеский центр «Росток» ЗАТО Сибирский",{"$error":"#REF!"},{"$f":"'1ОиДинфоб'!#REF!","v":{"$error":"#REF!"}},{"$f":"'1ОиДинфоб'!#REF!","v":{"$error":"#REF!"}},{"$f":"'1ОиДинфоб'!#REF!","v":{"$error":"#REF!"}},{"$error":"#REF!"},{"$f":"'2КомУслОц'!#REF!","v":{"$error":"#REF!"}},{"$f":"'2КомУслОц'!#REF!","v":{"$error":"#REF!"}},{"$error":"#REF!"},{"$f":"'3УслДостИнвОц'!#REF!","v":{"$error":"#REF!"}},{"$f":"'3УслДостИнвОц'!#REF!","v":{"$error":"#REF!"}},{"$f":"'3УслДостИнвОц'!#REF!","v":{"$error":"#REF!"}},{"$error":"#REF!"},{"$f":"'4ДобрВежл'!#REF!","v":{"$error":"#REF!"}},{"$f":"'4ДобрВежл'!#REF!","v":{"$error":"#REF!"}},{"$f":"'4ДобрВежл'!#REF!","v":{"$error":"#REF!"}},{"$error":"#REF!"},{"$f":"'5УдовлУсл'!#REF!","v":{"$error":"#REF!"}},{"$f":"'5УдовлУсл'!#REF!","v":{"$error":"#REF!"}},{"$f":"'5УдовлУсл'!#REF!","v":{"$error":"#REF!"}},{"$error":"#REF!"}]
[59,"Рубцовский район","МБУДО  «Детско-юношеская спортивная школа» Рубцовского района",{"$error":"#REF!"},{"$f":"'1ОиДинфоб'!#REF!","v":{"$error":"#REF!"}},{"$f":"'1ОиДинфоб'!#REF!","v":{"$error":"#REF!"}},{"$f":"'1ОиДинфоб'!#REF!","v":{"$error":"#REF!"}},{"$error":"#REF!"},{"$f":"'2КомУслОц'!#REF!","v":{"$error":"#REF!"}},{"$f":"'2КомУслОц'!#REF!","v":{"$error":"#REF!"}},{"$error":"#REF!"},{"$f":"'3УслДостИнвОц'!#REF!","v":{"$error":"#REF!"}},{"$f":"'3УслДостИнвОц'!#REF!","v":{"$error":"#REF!"}},{"$f":"'3УслДостИнвОц'!#REF!","v":{"$error":"#REF!"}},{"$error":"#REF!"},{"$f":"'4ДобрВежл'!#REF!","v":{"$error":"#REF!"}},{"$f":"'4ДобрВежл'!#REF!","v":{"$error":"#REF!"}},{"$f":"'4ДобрВежл'!#REF!","v":{"$error":"#REF!"}},{"$error":"#REF!"},{"$f":"'5УдовлУсл'!#REF!","v":{"$error":"#REF!"}},{"$f":"'5УдовлУсл'!#REF!","v":{"$error":"#REF!"}},{"$f":"'5УдовлУсл'!#REF!","v":{"$error":"#REF!"}},{"$error":"#REF!"}]
[60,"г. Барнаул","МБУДО  «Центр развития творчества детей и молодежи» Железнодорожного района",{"$error":"#REF!"},{"$f":"'1ОиДинфоб'!#REF!","v":{"$error":"#REF!"}},{"$f":"'1ОиДинфоб'!#REF!","v":{"$error":"#REF!"}},{"$f":"'1ОиДинфоб'!#REF!","v":{"$error":"#REF!"}},{"$error":"#REF!"},{"$f":"'2КомУслОц'!#REF!","v":{"$error":"#REF!"}},{"$f":"'2КомУслОц'!#REF!","v":{"$error":"#REF!"}},{"$error":"#REF!"},{"$f":"'3УслДостИнвОц'!#REF!","v":{"$error":"#REF!"}},{"$f":"'3УслДостИнвОц'!#REF!","v":{"$error":"#REF!"}},{"$f":"'3УслДостИнвОц'!#REF!","v":{"$error":"#REF!"}},{"$error":"#REF!"},{"$f":"'4ДобрВежл'!#REF!","v":{"$error":"#REF!"}},{"$f":"'4ДобрВежл'!#REF!","v":{"$error":"#REF!"}},{"$f":"'4ДобрВежл'!#REF!","v":{"$error":"#REF!"}},{"$error":"#REF!"},{"$f":"'5УдовлУсл'!#REF!","v":{"$error":"#REF!"}},{"$f":"'5УдовлУсл'!#REF!","v":{"$error":"#REF!"}},{"$f":"'5УдовлУсл'!#REF!","v":{"$error":"#REF!"}},{"$error":"#REF!"}]
[null,"Тюменцевский район","МБУДО  «Тюменцевский районный центр детского творчества»",{"$error":"#REF!"},{"$f":"'1ОиДинфоб'!#REF!","v":{"$error":"#REF!"}},{"$f":"'1ОиДинфоб'!#REF!","v":{"$error":"#REF!"}},{"$f":"'1ОиДинфоб'!#REF!","v":{"$error":"#REF!"}},{"$error":"#REF!"},{"$f":"'2КомУслОц'!#REF!","v":{"$error":"#REF!"}},{"$f":"'2КомУслОц'!#REF!","v":{"$error":"#REF!"}},{"$error":"#REF!"},{"$f":"'3УслДостИнвОц'!#REF!","v":{"$error":"#REF!"}},{"$f":"'3УслДостИнвОц'!#REF!","v":{"$error":"#REF!"}},{"$f":"'3УслДостИнвОц'!#REF!","v":{"$error":"#REF!"}},{"$error":"#REF!"},{"$f":"'4ДобрВежл'!#REF!","v":{"$error":"#REF!"}},{"$f":"'4ДобрВежл'!#REF!","v":{"$error":"#REF!"}},{"$f":"'4ДобрВежл'!#REF!","v":{"$error":"#REF!"}},{"$error":"#REF!"},{"$f":"'5УдовлУсл'!#REF!","v":{"$error":"#REF!"}},{"$f":"'5УдовлУсл'!#REF!","v":{"$error":"#REF!"}},{"$f":"'5УдовлУсл'!#REF!","v":{"$error":"#REF!"}},{"$error":"#REF!"}]
[61,"г. Барнаул","МБУДО  «Центр физкультурно-спортивной направленности «Акцент»",{"$error":"#REF!"},{"$f":"'1ОиДинфоб'!#REF!","v":{"$error":"#REF!"}},{"$f":"'1ОиДинфоб'!#REF!","v":{"$error":"#REF!"}},{"$f":"'1ОиДинфоб'!#REF!","v":{"$error":"#REF!"}},{"$error":"#REF!"},{"$f":"'2КомУслОц'!#REF!","v":{"$error":"#REF!"}},{"$f":"'2КомУслОц'!#REF!","v":{"$error":"#REF!"}},{"$error":"#REF!"},{"$f":"'3УслДостИнвОц'!#REF!","v":{"$error":"#REF!"}},{"$f":"'3УслДостИнвОц'!#REF!","v":{"$error":"#REF!"}},{"$f":"'3УслДостИнвОц'!#REF!","v":{"$error":"#REF!"}},{"$error":"#REF!"},{"$f":"'4ДобрВежл'!#REF!","v":{"$error":"#REF!"}},{"$f":"'4ДобрВежл'!#REF!","v":{"$error":"#REF!"}},{"$f":"'4ДобрВежл'!#REF!","v":{"$error":"#REF!"}},{"$error":"#REF!"},{"$f":"'5УдовлУсл'!#REF!","v":{"$error":"#REF!"}},{"$f":"'5УдовлУсл'!#REF!","v":{"$error":"#REF!"}},{"$f":"'5УдовлУсл'!#REF!","v":{"$error":"#REF!"}},{"$error":"#REF!"}]
[62,"г. Белокуриха","МБУДО  «Детско-юношеская спортивная школа» г. Белокурихи",{"$error":"#REF!"},{"$f":"'1ОиДинфоб'!#REF!","v":{"$error":"#REF!"}},{"$f":"'1ОиДинфоб'!#REF!","v":{"$error":"#REF!"}},{"$f":"'1ОиДинфоб'!#REF!","v":{"$error":"#REF!"}},{"$error":"#REF!"},{"$f":"'2КомУслОц'!#REF!","v":{"$error":"#REF!"}},{"$f":"'2КомУслОц'!#REF!","v":{"$error":"#REF!"}},{"$error":"#REF!"},{"$f":"'3УслДостИнвОц'!#REF!","v":{"$error":"#REF!"}},{"$f":"'3УслДостИнвОц'!#REF!","v":{"$error":"#REF!"}},{"$f":"'3УслДостИнвОц'!#REF!","v":{"$error":"#REF!"}},{"$error":"#REF!"},{"$f":"'4ДобрВежл'!#REF!","v":{"$error":"#REF!"}},{"$f":"'4ДобрВежл'!#REF!","v":{"$error":"#REF!"}},{"$f":"'4ДобрВежл'!#REF!","v":{"$error":"#REF!"}},{"$error":"#REF!"},{"$f":"'5УдовлУсл'!#REF!","v":{"$error":"#REF!"}},{"$f":"'5УдовлУсл'!#REF!","v":{"$error":"#REF!"}},{"$f":"'5УдовлУсл'!#REF!","v":{"$error":"#REF!"}},{"$error":"#REF!"}]
[63,"Калманский район","МБУДО «Калманский районный детско-юношеский центр»",{"$error":"#REF!"},{"$f":"'1ОиДинфоб'!#REF!","v":{"$error":"#REF!"}},{"$f":"'1ОиДинфоб'!#REF!","v":{"$error":"#REF!"}},{"$f":"'1ОиДинфоб'!#REF!","v":{"$error":"#REF!"}},{"$error":"#REF!"},{"$f":"'2КомУслОц'!#REF!","v":{"$error":"#REF!"}},{"$f":"'2КомУслОц'!#REF!","v":{"$error":"#REF!"}},{"$error":"#REF!"},{"$f":"'3УслДостИнвОц'!#REF!","v":{"$error":"#REF!"}},{"$f":"'3УслДостИнвОц'!#REF!","v":{"$error":"#REF!"}},{"$f":"'3УслДостИнвОц'!#REF!","v":{"$error":"#REF!"}},{"$error":"#REF!"},{"$f":"'4ДобрВежл'!#REF!","v":{"$error":"#REF!"}},{"$f":"'4ДобрВежл'!#REF!","v":{"$error":"#REF!"}},{"$f":"'4ДобрВежл'!#REF!","v":{"$error":"#REF!"}},{"$error":"#REF!"},{"$f":"'5УдовлУсл'!#REF!","v":{"$error":"#REF!"}},{"$f":"'5УдовлУсл'!#REF!","v":{"$error":"#REF!"}},{"$f":"'5УдовлУсл'!#REF!","v":{"$error":"#REF!"}},{"$error":"#REF!"}]
[null,"Топчихинский район","МКУДО «Топчихинская детско-юношеская спортивная школа»",{"$error":"#REF!"},{"$f":"'1ОиДинфоб'!#REF!","v":{"$error":"#REF!"}},{"$f":"'1ОиДинфоб'!#REF!","v":{"$error":"#REF!"}},{"$f":"'1ОиДинфоб'!#REF!","v":{"$error":"#REF!"}},{"$error":"#REF!"},{"$f":"'2КомУслОц'!#REF!","v":{"$error":"#REF!"}},{"$f":"'2КомУслОц'!#REF!","v":{"$error":"#REF!"}},{"$error":"#REF!"},{"$f":"'3УслДостИнвОц'!#REF!","v":{"$error":"#REF!"}},{"$f":"'3УслДостИнвОц'!#REF!","v":{"$error":"#REF!"}},{"$f":"'3УслДостИнвОц'!#REF!","v":{"$error":"#REF!"}},{"$error":"#REF!"},{"$f":"'4ДобрВежл'!#REF!","v":{"$error":"#REF!"}},{"$f":"'4ДобрВежл'!#REF!","v":{"$error":"#REF!"}},{"$f":"'4ДобрВежл'!#REF!","v":{"$error":"#REF!"}},{"$error":"#REF!"},{"$f":"'5УдовлУсл'!#REF!","v":{"$error":"#REF!"}},{"$f":"'5УдовлУсл'!#REF!","v":{"$error":"#REF!"}},{"$f":"'5УдовлУсл'!#REF!","v":{"$error":"#REF!"}},{"$error":"#REF!"}]
[64,"Мамонтовский район","МКУДО  «Мамонтовская детско-юношеская спортивная школа»",{"$error":"#REF!"},{"$f":"'1ОиДинфоб'!#REF!","v":{"$error":"#REF!"}},{"$f":"'1ОиДинфоб'!#REF!","v":{"$error":"#REF!"}},{"$f":"'1ОиДинфоб'!#REF!","v":{"$error":"#REF!"}},{"$error":"#REF!"},{"$f":"'2КомУслОц'!#REF!","v":{"$error":"#REF!"}},{"$f":"'2КомУслОц'!#REF!","v":{"$error":"#REF!"}},{"$error":"#REF!"},{"$f":"'3УслДостИнвОц'!#REF!","v":{"$error":"#REF!"}},{"$f":"'3УслДостИнвОц'!#REF!","v":{"$error":"#REF!"}},{"$f":"'3УслДостИнвОц'!#REF!","v":{"$error":"#REF!"}},{"$error":"#REF!"},{"$f":"'4ДобрВежл'!#REF!","v":{"$error":"#REF!"}},{"$f":"'4ДобрВежл'!#REF!","v":{"$error":"#REF!"}},{"$f":"'4ДобрВежл'!#REF!","v":{"$error":"#REF!"}},{"$error":"#REF!"},{"$f":"'5УдовлУсл'!#REF!","v":{"$error":"#REF!"}},{"$f":"'5УдовлУсл'!#REF!","v":{"$error":"#REF!"}},{"$f":"'5УдовлУсл'!#REF!","v":{"$error":"#REF!"}},{"$error":"#REF!"}]
[65,"г. Барнаул","МБУДО «Центр дополнительного образования детей «Память» Пост №1 г. Барнаула»",{"$f":"AVERAGE(H90,K90,O90,S90,W90)","v":{"$error":"#REF!"}},{"$f":"'1ОиДинфоб'!#REF!","v":{"$error":"#REF!"}},{"$f":"'1ОиДинфоб'!#REF!","v":{"$error":"#REF!"}},{"$f":"'1ОиДинфоб'!#REF!","v":{"$error":"#REF!"}},{"$f":"E90+F90+G90","v":{"$error":"#REF!"}},{"$f":"'2КомУслОц'!#REF!","v":{"$error":"#REF!"}},{"$f":"'2КомУслОц'!#REF!","v":{"$error":"#REF!"}},{"$f":"I90+J90","v":{"$error":"#REF!"}},{"$f":"'3УслДостИнвОц'!#REF!","v":{"$error":"#REF!"}},{"$f":"'3УслДостИнвОц'!#REF!","v":{"$error":"#REF!"}},{"$f":"'3УслДостИнвОц'!#REF!","v":{"$error":"#REF!"}},{"$f":"L90+M90+N90","v":{"$error":"#REF!"}},{"$f":"'4ДобрВежл'!#REF!","v":{"$error":"#REF!"}},{"$f":"'4ДобрВежл'!#REF!","v":{"$error":"#REF!"}},{"$f":"'4ДобрВежл'!#REF!","v":{"$error":"#REF!"}},{"$f":"SUM(P90:R90)","v":{"$error":"#REF!"}},{"$f":"'5УдовлУсл'!#REF!","v":{"$error":"#REF!"}},{"$f":"'5УдовлУсл'!#REF!","v":{"$error":"#REF!"}},{"$f":"'5УдовлУсл'!#REF!","v":{"$error":"#REF!"}},{"$f":"SUM(T90:V90)","v":{"$error":"#REF!"}}]
[null,"Солонешенский район","МБУДО  «Солонешенский центр детского творчества»",{"$error":"#REF!"},{"$f":"'1ОиДинфоб'!#REF!","v":{"$error":"#REF!"}},{"$f":"'1ОиДинфоб'!#REF!","v":{"$error":"#REF!"}},{"$f":"'1ОиДинфоб'!#REF!","v":{"$error":"#REF!"}},{"$error":"#REF!"},{"$f":"'2КомУслОц'!#REF!","v":{"$error":"#REF!"}},{"$f":"'2КомУслОц'!#REF!","v":{"$error":"#REF!"}},{"$error":"#REF!"},{"$f":"'3УслДостИнвОц'!#REF!","v":{"$error":"#REF!"}},{"$f":"'3УслДостИнвОц'!#REF!","v":{"$error":"#REF!"}},{"$f":"'3УслДостИнвОц'!#REF!","v":{"$error":"#REF!"}},{"$error":"#REF!"},{"$f":"'4ДобрВежл'!#REF!","v":{"$error":"#REF!"}},{"$f":"'4ДобрВежл'!#REF!","v":{"$error":"#REF!"}},{"$f":"'4ДобрВежл'!#REF!","v":{"$error":"#REF!"}},{"$error":"#REF!"},{"$f":"'5УдовлУсл'!#REF!","v":{"$error":"#REF!"}},{"$f":"'5УдовлУсл'!#REF!","v":{"$error":"#REF!"}},{"$f":"'5УдовлУсл'!#REF!","v":{"$error":"#REF!"}},{"$error":"#REF!"}]
[66,"Первомайский район","МБУДОД  «Детско-юношеская спортивная школа» Первомайского района",{"$f":"AVERAGE(H92,K92,O92,S92,W92)","v":{"$error":"#REF!"}},{"$f":"'1ОиДинфоб'!#REF!","v":{"$error":"#REF!"}},{"$f":"'1ОиДинфоб'!#REF!","v":{"$error":"#REF!"}},{"$f":"'1ОиДинфоб'!#REF!","v":{"$error":"#REF!"}},{"$f":"E92+F92+G92","v":{"$error":"#REF!"}},{"$f":"'2КомУслОц'!#REF!","v":{"$error":"#REF!"}},{"$f":"'2КомУслОц'!#REF!","v":{"$error":"#REF!"}},{"$f":"I92+J92","v":{"$error":"#REF!"}},{"$f":"'3УслДостИнвОц'!#REF!","v":{"$error":"#REF!"}},{"$f":"'3УслДостИнвОц'!#REF!","v":{"$error":"#REF!"}},{"$f":"'3УслДостИнвОц'!#REF!","v":{"$error":"#REF!"}},{"$f":"L92+M92+N92","v":{"$error":"#REF!"}},{"$f":"'4ДобрВежл'!#REF!","v":{"$error":"#REF!"}},{"$f":"'4ДобрВежл'!#REF!","v":{"$error":"#REF!"}},{"$f":"'4ДобрВежл'!#REF!","v":{"$error":"#REF!"}},{"$f":"SUM(P92:R92)","v":{"$error":"#REF!"}},{"$f":"'5УдовлУсл'!#REF!","v":{"$error":"#REF!"}},{"$f":"'5УдовлУсл'!#REF!","v":{"$error":"#REF!"}},{"$f":"'5УдовлУсл'!#REF!","v":{"$error":"#REF!"}},{"$f":"SUM(T92:V92)","v":{"$error":"#REF!"}}]
[67,"Егорьевский район","МБУДО  «Егорьевская детско-юношеская спортивная школа»",{"$f":"AVERAGE(H93,K93,O93,S93,W93)","v":{"$error":"#REF!"}},{"$f":"'1ОиДинфоб'!#REF!","v":{"$error":"#REF!"}},{"$f":"'1ОиДинфоб'!#REF!","v":{"$error":"#REF!"}},{"$f":"'1ОиДинфоб'!#REF!","v":{"$error":"#REF!"}},{"$f":"E93+F93+G93","v":{"$error":"#REF!"}},{"$f":"'2КомУслОц'!#REF!","v":{"$error":"#REF!"}},{"$f":"'2КомУслОц'!#REF!","v":{"$error":"#REF!"}},{"$f":"I93+J93","v":{"$error":"#REF!"}},{"$f":"'3УслДостИнвОц'!#REF!","v":{"$error":"#REF!"}},{"$f":"'3УслДостИнвОц'!#REF!","v":{"$error":"#REF!"}},{"$f":"'3УслДостИнвОц'!#REF!","v":{"$error":"#REF!"}},{"$f":"L93+M93+N93","v":{"$error":"#REF!"}},{"$f":"'4ДобрВежл'!#REF!","v":{"$error":"#REF!"}},{"$f":"'4ДобрВежл'!#REF!","v":{"$error":"#REF!"}},{"$f":"'4ДобрВежл'!#REF!","v":{"$error":"#REF!"}},{"$f":"SUM(P93:R93)","v":{"$error":"#REF!"}},{"$f":"'5УдовлУсл'!#REF!","v":{"$error":"#REF!"}},{"$f":"'5УдовлУсл'!#REF!","v":{"$error":"#REF!"}},{"$f":"'5УдовлУсл'!#REF!","v":{"$error":"#REF!"}},{"$f":"SUM(T93:V93)","v":{"$error":"#REF!"}}]
[null,"Красногорский район","МКУДО «Дом детского творчества» Красногорского района",{"$f":"AVERAGE(H94,K94,O94,S94,W94)","v":{"$error":"#REF!"}},{"$f":"'1ОиДинфоб'!#REF!","v":{"$error":"#REF!"}},{"$f":"'1ОиДинфоб'!#REF!","v":{"$error":"#REF!"}},{"$f":"'1ОиДинфоб'!#REF!","v":{"$error":"#REF!"}},{"$f":"E94+F94+G94","v":{"$error":"#REF!"}},{"$f":"'2КомУслОц'!#REF!","v":{"$error":"#REF!"}},{"$f":"'2КомУслОц'!#REF!","v":{"$error":"#REF!"}},{"$f":"I94+J94","v":{"$error":"#REF!"}},{"$f":"'3УслДостИнвОц'!#REF!","v":{"$error":"#REF!"}},{"$f":"'3УслДостИнвОц'!#REF!","v":{"$error":"#REF!"}},{"$f":"'3УслДостИнвОц'!#REF!","v":{"$error":"#REF!"}},{"$f":"L94+M94+N94","v":{"$error":"#REF!"}},{"$f":"'4ДобрВежл'!#REF!","v":{"$error":"#REF!"}},{"$f":"'4ДобрВежл'!#REF!","v":{"$error":"#REF!"}},{"$f":"'4ДобрВежл'!#REF!","v":{"$error":"#REF!"}},{"$f":"SUM(P94:R94)","v":{"$error":"#REF!"}},{"$f":"'5УдовлУсл'!#REF!","v":{"$error":"#REF!"}},{"$f":"'5УдовлУсл'!#REF!","v":{"$error":"#REF!"}},{"$f":"'5УдовлУсл'!#REF!","v":{"$error":"#REF!"}},{"$f":"SUM(T94:V94)","v":{"$error":"#REF!"}}]
[null,"Троицкий район","МБУДО  «Троицкий детско-юношеский центр»",{"$error":"#REF!"},{"$f":"'1ОиДинфоб'!#REF!","v":{"$error":"#REF!"}},{"$f":"'1ОиДинфоб'!#REF!","v":{"$error":"#REF!"}},{"$f":"'1ОиДинфоб'!#REF!","v":{"$error":"#REF!"}},{"$error":"#REF!"},{"$f":"'2КомУслОц'!#REF!","v":{"$error":"#REF!"}},{"$f":"'2КомУслОц'!#REF!","v":{"$error":"#REF!"}},{"$error":"#REF!"},{"$f":"'3УслДостИнвОц'!#REF!","v":{"$error":"#REF!"}},{"$f":"'3УслДостИнвОц'!#REF!","v":{"$error":"#REF!"}},{"$f":"'3УслДостИнвОц'!#REF!","v":{"$error":"#REF!"}},{"$error":"#REF!"},{"$f":"'4ДобрВежл'!#REF!","v":{"$error":"#REF!"}},{"$f":"'4ДобрВежл'!#REF!","v":{"$error":"#REF!"}},{"$f":"'4ДобрВежл'!#REF!","v":{"$error":"#REF!"}},{"$error":"#REF!"},{"$f":"'5УдовлУсл'!#REF!","v":{"$error":"#REF!"}},{"$f":"'5УдовлУсл'!#REF!","v":{"$error":"#REF!"}},{"$f":"'5УдовлУсл'!#REF!","v":{"$error":"#REF!"}},{"$error":"#REF!"}]
[68,"Рубцовский район","МБУДО  «Центр творческого развития «Ступени» Рубцовского района",{"$f":"AVERAGE(H96,K96,O96,S96,W96)","v":{"$error":"#REF!"}},{"$f":"'1ОиДинфоб'!#REF!","v":{"$error":"#REF!"}},{"$f":"'1ОиДинфоб'!#REF!","v":{"$error":"#REF!"}},{"$f":"'1ОиДинфоб'!#REF!","v":{"$error":"#REF!"}},{"$f":"E96+F96+G96","v":{"$error":"#REF!"}},{"$f":"'2КомУслОц'!#REF!","v":{"$error":"#REF!"}},{"$f":"'2КомУслОц'!#REF!","v":{"$error":"#REF!"}},{"$f":"I96+J96","v":{"$error":"#REF!"}},{"$f":"'3УслДостИнвОц'!#REF!","v":{"$error":"#REF!"}},{"$f":"'3УслДостИнвОц'!#REF!","v":{"$error":"#REF!"}},{"$f":"'3УслДостИнвОц'!#REF!","v":{"$error":"#REF!"}},{"$f":"L96+M96+N96","v":{"$error":"#REF!"}},{"$f":"'4ДобрВежл'!#REF!","v":{"$error":"#REF!"}},{"$f":"'4ДобрВежл'!#REF!","v":{"$error":"#REF!"}},{"$f":"'4ДобрВежл'!#REF!","v":{"$error":"#REF!"}},{"$f":"SUM(P96:R96)","v":{"$error":"#REF!"}},{"$f":"'5УдовлУсл'!#REF!","v":{"$error":"#REF!"}},{"$f":"'5УдовлУсл'!#REF!","v":{"$error":"#REF!"}},{"$f":"'5УдовлУсл'!#REF!","v":{"$error":"#REF!"}},{"$f":"SUM(T96:V96)","v":{"$error":"#REF!"}}]
[69,"Усть-Пристанский район","МКУДО «Дом детского творчества» Усть-Пристанского района",{"$error":"#REF!"},{"$f":"'1ОиДинфоб'!#REF!","v":{"$error":"#REF!"}},{"$f":"'1ОиДинфоб'!#REF!","v":{"$error":"#REF!"}},{"$f":"'1ОиДинфоб'!#REF!","v":{"$error":"#REF!"}},{"$error":"#REF!"},{"$f":"'2КомУслОц'!#REF!","v":{"$error":"#REF!"}},{"$f":"'2КомУслОц'!#REF!","v":{"$error":"#REF!"}},{"$error":"#REF!"},{"$f":"'3УслДостИнвОц'!#REF!","v":{"$error":"#REF!"}},{"$f":"'3УслДостИнвОц'!#REF!","v":{"$error":"#REF!"}},{"$f":"'3УслДостИнвОц'!#REF!","v":{"$error":"#REF!"}},{"$error":"#REF!"},{"$f":"'4ДобрВежл'!#REF!","v":{"$error":"#REF!"}},{"$f":"'4ДобрВежл'!#REF!","v":{"$error":"#REF!"}},{"$f":"'4ДобрВежл'!#REF!","v":{"$error":"#REF!"}},{"$error":"#REF!"},{"$f":"'5УдовлУсл'!#REF!","v":{"$error":"#REF!"}},{"$f":"'5УдовлУсл'!#REF!","v":{"$error":"#REF!"}},{"$f":"'5УдовлУсл'!#REF!","v":{"$error":"#REF!"}},{"$error":"#REF!"}]
[70,"Залесовский район","МБУДО «Центр спорта и творчества» ",{"$error":"#REF!"},{"$f":"'1ОиДинфоб'!#REF!","v":{"$error":"#REF!"}},{"$f":"'1ОиДинфоб'!#REF!","v":{"$error":"#REF!"}},{"$f":"'1ОиДинфоб'!#REF!","v":{"$error":"#REF!"}},{"$error":"#REF!"},{"$f":"'2КомУслОц'!#REF!","v":{"$error":"#REF!"}},{"$f":"'2КомУслОц'!#REF!","v":{"$error":"#REF!"}},{"$error":"#REF!"},{"$f":"'3УслДостИнвОц'!#REF!","v":{"$error":"#REF!"}},{"$f":"'3УслДостИнвОц'!#REF!","v":{"$error":"#REF!"}},{"$f":"'3УслДостИнвОц'!#REF!","v":{"$error":"#REF!"}},{"$error":"#REF!"},{"$f":"'4ДобрВежл'!#REF!","v":{"$error":"#REF!"}},{"$f":"'4ДобрВежл'!#REF!","v":{"$error":"#REF!"}},{"$f":"'4ДобрВежл'!#REF!","v":{"$error":"#REF!"}},{"$error":"#REF!"},{"$f":"'5УдовлУсл'!#REF!","v":{"$error":"#REF!"}},{"$f":"'5УдовлУсл'!#REF!","v":{"$error":"#REF!"}},{"$f":"'5УдовлУсл'!#REF!","v":{"$error":"#REF!"}},{"$error":"#REF!"}]
[71,"Зональный район","МКОУДО «Зональная районная детско-юношеская спортивная школа»",{"$error":"#REF!"},{"$f":"'1ОиДинфоб'!#REF!","v":{"$error":"#REF!"}},{"$f":"'1ОиДинфоб'!#REF!","v":{"$error":"#REF!"}},{"$f":"'1ОиДинфоб'!#REF!","v":{"$error":"#REF!"}},{"$error":"#REF!"},{"$f":"'2КомУслОц'!#REF!","v":{"$error":"#REF!"}},{"$f":"'2КомУслОц'!#REF!","v":{"$error":"#REF!"}},{"$error":"#REF!"},{"$f":"'3УслДостИнвОц'!#REF!","v":{"$error":"#REF!"}},{"$f":"'3УслДостИнвОц'!#REF!","v":{"$error":"#REF!"}},{"$f":"'3УслДостИнвОц'!#REF!","v":{"$error":"#REF!"}},{"$error":"#REF!"},{"$f":"'4ДобрВежл'!#REF!","v":{"$error":"#REF!"}},{"$f":"'4ДобрВежл'!#REF!","v":{"$error":"#REF!"}},{"$f":"'4ДобрВежл'!#REF!","v":{"$error":"#REF!"}},{"$error":"#REF!"},{"$f":"'5УдовлУсл'!#REF!","v":{"$error":"#REF!"}},{"$f":"'5УдовлУсл'!#REF!","v":{"$error":"#REF!"}},{"$f":"'5УдовлУсл'!#REF!","v":{"$error":"#REF!"}},{"$error":"#REF!"}]
[]
[]
[]
["Место в рейтинге","Муниципальное образование","Наименование образовательной организации","Интегральное значение показателя","К1","К2","К3","К4","К5"]
[1,"г. Барнаул","КГБУДО  «Детский технопарк Алтайского края «Кванториум.22»",98.789999999999992,100,99.95,94,100,100]
[2,"г. Барнаул","МБУДО  Детский оздоровительно-образовательный (профильный) центр «Валеологический центр»",98.612000000000009,99.1,100,94,99.960000000000008,100]
[3,"г. Барнаул","КГБУДО «Алтайский краевой детский экологический центр»",98.517226093776046,99.718367346938777,99.85,93.4,99.647763121941537,99.97]
[null,"Советский район","МБУДО  «Детско-юношеский центр» Советского района",98.465999999999994,100,99.5,93.4,100,99.429999999999993]
[4,"Баевский район","МБУДО «Баевский Центр детского творчества и профессионального обучения Алтайского края»",98.335918367346935,99.1,98.979591836734699,94,99.78,99.82]
[null,"Шелаболихинский район","МКУДО «Шелаболихинская детско-юношеская спортивная школа»",98.336787878787888,96.3,99.5,100,99.393939393939405,96.49]
[5,"г. Барнаул","КГБУДО «Алтайский краевой центр детского отдыха, туризма и краеведения «Алтай»",98.183164414726448,98.300000000000011,99.5,94,99.353224671034809,99.762597402597407]
[null,"г. Рубцовск","МБУДО «Станция туризма и экскурсий» г. Рубцовска",98.152370370370377,99.651851851851845,98,94,99.78,99.33]
[6,"Кулундинский район","МБУДО  «Центр детского творчества» Кулундинского района",98.144943836663131,94.470776417019934,99.034749034749041,98.235294117647058,99.613899613899619,99.37]
[7,"Алтайский район","МАОУДО «Алтайский районный детско-юношеский центр»",97.603383652533736,97.577687493437907,99.519230769230774,93.1,98.800000000000011,99.02000000000001]
[8,"Завьяловский район","МБОУДО «Завьяловский районный центр детского творчества»",96.903852448021468,93.599262240107322,98.5,94,98.800000000000011,99.62]
[null,"Заринский район","МБУДО  «Центр детского творчества» Заринского района",96.912000000000006,93.1,99.5,94,99.179999999999993,98.78]
[9,"г. Заринск","МБУДО  «Центр детского творчества» г. Заринска",96.709573416626043,94.477867083130235,99,92,99.039999999999992,99.03]
[10,"Змеиногорский район","МБУДО  «Дворец творчества детей и молодежи» Змеиногорского района",95.572649677925853,98.16615905245348,99.95,80,99.882363112391943,99.864726224783851]
[11,"г. Белокуриха","МБУДО «Центр эстетического воспитания» г. Белокурихи",94.910516124538546,97.53387755102041,100,77.599999999999994,99.658703071672363,99.759999999999991]
[12,"Кытмановский район","МБУДО «Центр спорта и творчества Кытмановского района»",94.647163763066203,90,98.954703832752614,86,98.815331010452965,99.465783972125436]
[13,"Топчихинский район","МКУДО «Топчихинский детско-юношеский центр»",94.523957446808524,85.92978723404255,100,88,99.04000000000002,99.65]
[14,"г. Барнаул","МБУДО  «Детская школа искусств «Традиция» с. Власиха г. Барнаула",94.352739048007933,94.947830261136716,99.5,78,99.780000000000015,99.535864978902964]
[15,"Чарышский район","МБУДО  «Центр детского творчества»Чарышского района",94.14082656647679,93.621621621621614,100,78,99.441255605381158,99.641255605381161]
[16,"Крутихинский район","МБУДО  «Крутихинский Детско-юношеский центр»",93.679999999999993,96.4,100,72,100,100]
[17,"г. Яровое","МБУДО  «Центр научно-технического творчества учащихся» г. Яровое",93.41537340786995,97.191539528432742,98.5,72,99.56,99.825327510917035]
[18,"Локтевский район","МБУДО «Дом детского творчества» Локтевского района",93.027956989247315,100,100,66,99.569892473118273,99.569892473118273]
[19,"г. Барнаул","МБУДО  «Центр детского творчества №2» г. Барнаула",92.930821099584705,98.902472527472526,98.5,69.599999999999994,99.004665629860028,98.646967340590976]
[20,"Ельцовский район","МБУДО «Ельцовский центр развития детей-детско-юношеская спортивная школа\"",92.689904407859814,94.857142857142861,99.5,72,98.6,98.492379182156128]
[null,"Тальменский район","МКУДО  «Тальменская детско-юношеская спортивная школа»",92.652666666666661,91.583333333333329,100,72,99.679999999999993,100]
[21,"Благовещенский район","МБУДО  «Благовещенский детско-юношеский центр»",92.579110092424486,91.542901455499873,99.95,72,99.602649006622528,99.800000000000011]
[22,"г. Барнаул","МБУДО  Городской психолого-педагогический центр «Потенциал»",92.533467288705651,88,99.506346967559949,77.42307692307692,98.997912552891393,98.740000000000009]
[23,"Новоалтайск район","МБОУДО «Детско-юношеский центр города Новоалтайска»",91.999961593172117,94.825000000000003,99.95,66,99.423954480796596,99.80085348506401]
[24,"Табунский район","МБУДО  «Центр дополнительного образования детей» Табунского района",91.910287104622881,83.933333333333337,95,85.929999999999993,97.648029197080291,97.040072992700729]
[25,"г. Барнаул","МБУДО «Центр развития творчества детей и юношества» Ленинского района г. Барнаула",91.73359933182482,98.797996659124038,99.95,60,99.960000000000008,99.960000000000008]
[26,"Чарышский район","МБУДО  «Детско-юношеская спортивная школа» Чарышского района",91.507999999999996,87.7,100,70,99.84,100]
[27,"Мамонтовский район","МБУДО  «Мамонтовский детско-юношеский центр»",91.317999999999998,97.9,99.5,60,100,99.19]
[null,"Новичихинский район","МКОУДО «Новичихинская детско-юношеская спортивная школа»",91.333904761904762,92.709523809523802,99,66,99.52000000000001,99.44]
[null,"Ребрихинский район","МКОУДО «Ребрихинский детско-юношеский центр»",91.254346776771683,94.819438369346528,99.47229551451187,63.9,98.960000000000022,99.12]
[null,"г. Славгород","МБУДО  «Центр творчества детей и молодежи» г. Славгорода",91.290024844720492,96.6,98.524844720496901,64.400000000000006,98.354037267080741,98.571242236024844]
[28,"Романовский район","МБУДО  «Романовский детско-юношеский центр»",91.102000000000004,97,99,60,99.56,99.95]
[29,"Шелаболихинский район","МБУДО  «Шелаболихинский центр детского творчества»",90.854577833647596,94.927927927927925,99.5,60,99.844961240310084,100]
[30,"Поспелихинский район","МКУДО «Поспелихинский районный центр детского творчества»",90.847272727272724,95.13636363636364,99.5,60,99.76,99.84]
[31,"Родинский район","МБУДО  «Детский оздоровительно-образовательный центр Родинского района",90.72,96.1,99.5,58,100,100]
[32,"г. Алейск","МБУДО «Центр детского творчества» (г. Алейск)",90.395930158622406,94.469524210833555,99.5,60,99.030126582278484,98.97999999999999]
[33,"Тальменский район","МКУДО «Тальменский центр внешкольной работы»",90.347455412961693,96.312731610263,99.5,57.272727272727266,99.351818181818174,99.3]
[34,"г. Барнаул","МБУДО «Центр детского творчества» Центрального района г. Барнаула",90.083939393939389,93.569696969696977,98.95,60,99.38,98.52]
[35,"г. Барнаул","КГБУДО «Алтайский краевой дворец творчества детей и молодежи»",89.952945295404817,92.8,99,60,98.840000000000018,99.124726477024069]
[null,"Смоленский район","МБУДО  «Смоленский дом детского творчества»",90.048296296296286,96.481481481481481,100,54,99.76,100]
[36,"г. Бийск","МБУДО  «Детский эколого-туристический центр» г. Бийска",89.94577622425092,96.742793438445617,99.5,55.230000000000004,99.00608768280901,99.25]
[null,"Михайловский район","МКОДО «Михайловский образовательно-оздоровительный центр Им. Ю.А. Гагарина» ",89.896666666666675,88.183333333333337,97.5,74,95.800000000000011,94]
[37,"г. Барнаул","МБУДО  «Центр развития творчества детей и юношества» Индустриального района г. Барнаула",89.827518166599859,96.357590832999307,99.5,54,99.440000000000012,99.84]
[null,"Бийский район","МБУДО  «Центр внешкольной работы» Бийского района",89.813999999999993,95.2,98.5,58,99.240000000000009,98.13]
[38,"г. Барнаул","МБУДО  «Центр эстетического воспитания «Песнохорки»",89.748729614823276,92.379084967320267,99.514563106796118,60,98.4,98.45]
[null,"г. Бийск","МБУДО  «Дом детского творчества» г. Бийска",89.667698685088311,99.254907644916074,99.45,51.629999999999995,99.001792890262749,99.001792890262749]
[39,"г. Барнаул","МБУДО  «Дом художественного творчества детей» (г. Барнаул)",89.636790162532861,98.730617479330959,99.5,50.8,99.393333333333345,99.759999999999991]
[null,"Михайловский район","МКУДО «Михайловская детско-юношеская спортивная школа» ",89.565233644859816,91.826168224299067,100,56,100,100]
[40,"Краснощековский район","МБУДО  «Краснощековский районный детско-юношеский центр»",89.523636363636371,96.618181818181824,99.5,52,100,99.5]
[41,"г. Рубцовск","МБУДО  «Детско-юношеский центр»  г. Рубцовска",89.394529505582142,86.168102073365233,99.95,61.454545454545453,99.399999999999991,100]
[null,"Третьяковский район","МБОУДО «Центр развития творчества детей и юношества» Третьяковского района",89.44,93.7,99.5,54,100,100]
[42,"г. Барнаул","МБУДО  «Барнаульский городской детско-юношеский центр»",89.011814325653148,97.813617082811135,99.5,50.2,98.787878787878796,98.757575757575765]
[43,"Каменский район","МБУДО  «Каменский многопрофильный образовательный центр»",88.891400050929462,93.137000254647319,100,51.929999999999993,99.44,99.95]
[null,"Павловский район","МБУДО  «Павловский детско-юношеский центр»",88.937692307692302,96,98,54,98.44,98.248461538461527]
[44,"Целинный район","МБУДО «Центр творчества и отдыха» Целинного района",88.833492957746472,84.877464788732397,97,66,99.02,97.27]
[45,"г. Барнаул","МБУДО  «Детский оздоровительно-образовательный (профильный) центр Гармония»",88.740000000000009,94.9,100,50,98.800000000000011,100]
[null,"Панкрушихинский район","МБОУДО «Панкрушихинский районный Центр творчества»",88.657076369793529,85.142594963721734,99.016393442622956,62.23,98.526557377049187,98.369836065573764]
[46,"г. Барнаул","МБУДО «Барнаульская городская станция юных техников»",88.524274123442495,97.9,99.95,45.411764705882348,99.408866995073893,99.950738916256157]
[47,"Быстроистокский район","МБУДО «Быстроистокская детско-юношеская спортивная школа»",88.37487140310671,97.631932773109241,99.5,46,99.242424242424249,99.5]
[48,"г. Барнаул","МБУДО  «Детско-юношеский центр» Индустриального района г. Барнаула",88.251902866522599,97.468984346559893,99.95,44,99.860529986053024,99.98]
[null,"Курьинский район","МБУДО «Дом детского творчества» Курьинского района",88.32116328116328,93.582539682539689,99.45054945054946,49.272727272727266,100,99.3]
[null,"Солтонский район","МКОУДО «Детско-юношеский центр» Солтонского района",88.25173031095612,92.41612903225807,97.522522522522522,52,99.44,99.88]
[49,"г. Барнаул","МБУДО  Центр внешкольной работы «Военно-спортивный клуб «Борец»",88.13554890678941,95.837744533947074,100,46,98.84,100]
[null,"Усть-Калманский район","МБУДО  «Центр детского творчества» Усть-Калманского района",88.100444444444449,94.522222222222226,100,46,100,99.98]
[50,"г. Рубцовск","МБУДО  «Центр развития творчества» г. Рубцовска",88.036000000000001,94.3,99.95,46,99.98,99.95]
[51,"Первомайский район","МБУДО  «Центр творчества детей и молодежи «Созвездие» Первомайского района",87.856265193370163,94,99.516574585635368,46,99.88475138121548,99.88]
[52,"г. Рубцовск","МБУДО  «Центр внешкольной работы «Малая Академия» г. Рубцовска",87.609196544859472,96.322228970543577,99,45.67,98.409129129129141,98.644624624624612]
[53,"г. Барнаул","МБУДО  «Барнаульская городская станция юных натуралистов»",87.472002132764601,97.058357771261001,99.9,42.629999999999995,98.621487603305795,99.150165289256194]
[null,"Бурлинский район","МБУДО  «Бурлинский Центр дополнительного образования»",87.538912280701751,88.324561403508767,100,50.07,100,99.3]
[54,"Хабарский район","МБУДО «Центр детского творчества»  Хабарского района",87.42,94,100,45,99.240000000000009,98.86]
[55,"г. Барнаул","МБУДО  «Центр детского творчества» Октябрьского района г. Барнаула",87.101897233201584,96.2,97,46,98.04948616600791,98.26]
[56,"Тогульский район","МКУДО «Центр творчества, спорта и отдыха» Тогульского района",86.928720292316399,93.623601461582012,99.5,44,99.02,98.5]
[57,"г. Барнаул","МБУДО «Центр детского (юношеского) технического творчества» Ленинского района",86.742962962962963,83.955555555555549,99,52,99.629629629629633,99.129629629629633]
[58,"ЗАТО Сибирский","МБУДО  «Детско-юношеский центр «Росток» ЗАТО Сибирский",86.49588516746411,94.545454545454547,99,40.666666666666664,98.449122807017545,99.818181818181813]
[59,"Рубцовский район","МБУДО  «Детско-юношеская спортивная школа» Рубцовского района",86.119584208793498,89.715063901110398,100,42,99.642857142857139,99.240000000000009]
[60,"г. Барнаул","МБУДО  «Центр развития творчества детей и молодежи» Железнодорожного района",85.93813537383889,95.644696969696966,98.5,38.200000000000003,98.771993299832516,98.573986599664991]
[null,"Тюменцевский район","МБУДО  «Тюменцевский районный центр детского творчества»",85.882185503414846,93.609803921568613,99.5,38,99.550561797752806,98.750561797752809]
[61,"г. Барнаул","МБУДО  «Центр физкультурно-спортивной направленности «Акцент»",85.288585048754072,92.718309859154942,99.5,36,99.384615384615387,98.84]
[62,"г. Белокуриха","МБУДО  «Детско-юношеская спортивная школа» г. Белокурихи",85.245045045045046,96.725225225225216,99.5,30,100,100]
[63,"Калманский район","МБУДО «Калманский районный детско-юношеский центр»",85.060475342973675,96.555172413793116,98.5,32,99.569892473118273,98.677311827956984]
[64,"Топчихинский район","МКУДО «Топчихинская детско-юношеская спортивная школа»",85.120860215053753,84.304301075268825,98,44.5,99.6,99.2]
[65,"Мамонтовский район","МКУДО  «Мамонтовская детско-юношеская спортивная школа»",84.867627530364373,91.978137651821868,95.5,46,96.02000000000001,94.84]
[null,"г. Барнаул","МБУДО «Центр дополнительного образования детей «Память» Пост №1 г. Барнаула»",83.902000000000001,83.3,99.5,38,99.56,99.15]
[null,"Солонешенский район","МБУДО  «Солонешенский центр детского творчества»",83.932594856124268,95.162974280621341,97.5,30,99,98]
[66,"Первомайский район","МБУДОД  «Детско-юношеская спортивная школа» Первомайского района",82.500728373364581,78.361111111111114,99.95,36,98.242530755711783,99.95]
[67,"Егорьевский район","МБУДО  «Егорьевская детско-юношеская спортивная школа»",82.44375939849624,82.647368421052633,97.5,38,99,95.071428571428569]
[null,"Красногорский район","МКУДО «Дом детского творчества» Красногорского района",82.394100539811078,91.804605263157896,99.5,30,95.42,95.245897435897433]
[null,"Троицкий район","МБУДО  «Троицкий детско-юношеский центр»",82.390367346938774,96.591836734693885,100,16,99.36,100]
[68,"Рубцовский район","МБУДО  «Центр творческого развития «Ступени» Рубцовского района",81.834428571428575,73.232142857142861,99.5,38,99.64,98.800000000000011]
[69,"Усть-Пристанский район","МКУДО «Дом детского творчества» Усть-Пристанского района",81.482616822429904,92.413084112149534,99,16,100,100]
[70,"Залесовский район","МБУДО «Центр спорта и творчества» ",80.302185792349718,92.294262295081978,98,17.93,98.239047619047625,95.047619047619037]
[71,"Зональный район","МКОУДО «Зональная районная детско-юношеская спортивная школа»",78.012307692307701,91.6,98.461538461538453,6,97.000000000000014,97]
["Среднее по региону",null,null,{"$f":"AVERAGE(D104:D199)","v":90.056628483756342},{"$f":"AVERAGE(E104:E199)","v":93.703482928706606},99.20962400255938,{"$f":"AVERAGE(G104:G199)","v":59.115487525138256},99.197782319757223,{"$f":"AVERAGE(I104:I199)","v":99.056765642620107}]